BEGIN:VCALENDAR
VERSION:2.0
PRODID:-//INPEACE - ECPv6.15.13.1//NONSGML v1.0//EN
CALSCALE:GREGORIAN
METHOD:PUBLISH
X-ORIGINAL-URL:https://inpeace.org
X-WR-CALDESC:Events for INPEACE
REFRESH-INTERVAL;VALUE=DURATION:PT1H
X-Robots-Tag:noindex
X-PUBLISHED-TTL:PT1H
BEGIN:VTIMEZONE
TZID:Pacific/Honolulu
BEGIN:STANDARD
TZOFFSETFROM:-1000
TZOFFSETTO:-1000
TZNAME:HST
DTSTART:20240101T000000
END:STANDARD
END:VTIMEZONE
BEGIN:VEVENT
DTSTART;TZID=Pacific/Honolulu:20250911T103000
DTEND;TZID=Pacific/Honolulu:20250911T140000
DTSTAMP:20260419T234830
CREATED:20250710T022444Z
LAST-MODIFIED:20250725T002418Z
UID:10001081-1757586600-1757599200@inpeace.org
SUMMARY:Preschool Here I Come! - Hilo Public Library
DESCRIPTION:Ho‘āla invites you to a FREE in-person event—perfect for families with keiki ages 0–5! If you’re exploring early childhood education or childcare options\, or need support with preschool scholarships and subsidies\, this event is for you.\n\nAn email reminder will be sent out with additional details. \n \nPreschool Here I Come! – Hilo Public Library\n1\nGoing\nRSVP Here\n\nGoing
URL:https://inpeace.org/event/preschool-here-i-come-hilo-public-library/
LOCATION:Hilo Public Library\, 300 Waianuenue Ave.\, Hilo\, 96720\, United States
CATEGORIES:Hoala
ATTACH;FMTTYPE=image/png:https://inpeace.org/wp-content/uploads/2023/10/Hoala-Workshop-1.png
ORGANIZER;CN="INPEACE":MAILTO:info@inpeace.org
END:VEVENT
END:VCALENDAR