BEGIN:VCALENDAR
VERSION:2.0
PRODID:-//INPEACE - ECPv6.15.13.1//NONSGML v1.0//EN
CALSCALE:GREGORIAN
METHOD:PUBLISH
X-ORIGINAL-URL:https://inpeace.org
X-WR-CALDESC:Events for INPEACE
REFRESH-INTERVAL;VALUE=DURATION:PT1H
X-Robots-Tag:noindex
X-PUBLISHED-TTL:PT1H
BEGIN:VTIMEZONE
TZID:Pacific/Honolulu
BEGIN:STANDARD
TZOFFSETFROM:-1000
TZOFFSETTO:-1000
TZNAME:HST
DTSTART:20220101T000000
END:STANDARD
END:VTIMEZONE
BEGIN:VEVENT
DTSTART;VALUE=DATE:20230925
DTEND;VALUE=DATE:20231217
DTSTAMP:20260420T022009
CREATED:20230926T203833Z
LAST-MODIFIED:20230926T205000Z
UID:10000865-1695600000-1702771199@inpeace.org
SUMMARY:The Science of Kapa at Nānakuli Public Library
DESCRIPTION:The Science of Kapa Pop-Up Exhibit will be at Nānakuli Public Library from September 25 – December 16\, 2023. For more information see flyer for hours or call (808) 668-5844.  \n 
URL:https://inpeace.org/event/the-science-of-kapa-at-nanakuli-public-library/2023-09-25/
LOCATION:Nānākuli Public Library\, 89-070 Farrington Highway\, Waiʻanae\, HI\, 96792\, United States
ATTACH;FMTTYPE=image/png:https://inpeace.org/wp-content/uploads/2022/12/WEB_The-Story-of-Kapa-1.png
ORGANIZER;CN="INPEACE":MAILTO:info@inpeace.org
END:VEVENT
END:VCALENDAR