BEGIN:VCALENDAR
VERSION:2.0
PRODID:-//INPEACE - ECPv6.15.13.1//NONSGML v1.0//EN
CALSCALE:GREGORIAN
METHOD:PUBLISH
X-ORIGINAL-URL:https://inpeace.org
X-WR-CALDESC:Events for INPEACE
REFRESH-INTERVAL;VALUE=DURATION:PT1H
X-Robots-Tag:noindex
X-PUBLISHED-TTL:PT1H
BEGIN:VTIMEZONE
TZID:Pacific/Honolulu
BEGIN:STANDARD
TZOFFSETFROM:-1000
TZOFFSETTO:-1000
TZNAME:HST
DTSTART:20230101T000000
END:STANDARD
END:VTIMEZONE
BEGIN:VEVENT
DTSTART;TZID=Pacific/Honolulu:20240520T170000
DTEND;TZID=Pacific/Honolulu:20240520T190000
DTSTAMP:20260423T064945
CREATED:20240502T175743Z
LAST-MODIFIED:20240502T175817Z
UID:10000807-1716224400-1716231600@inpeace.org
SUMMARY:Keiki Steps Pō ʻOhana - All Islands May2024
DESCRIPTION:Ho‘āla invites you to a FREE in-person event—perfect for families with keiki ages 0–5! If you’re exploring early childhood education or childcare options\, or need support with preschool scholarships and subsidies\, this event is for you.An email reminder will be sent out with additional details.
URL:https://inpeace.org/event/keiki-steps-po-%ca%bbohana-all-islands-may2024/
LOCATION:HI
CATEGORIES:Early Learning & School Readiness,Keiki Steps
ATTACH;FMTTYPE=image/png:https://inpeace.org/wp-content/uploads/2022/11/WEB_Event-Banner-Keiki-Steps-Po-ʻOhana.png
ORGANIZER;CN="INPEACE":MAILTO:info@inpeace.org
END:VEVENT
BEGIN:VEVENT
DTSTART;TZID=Pacific/Honolulu:20240516T100000
DTEND;TZID=Pacific/Honolulu:20240516T110000
DTSTAMP:20260423T064945
CREATED:20240109T220345Z
LAST-MODIFIED:20240221T032927Z
UID:10000781-1715853600-1715857200@inpeace.org
SUMMARY:Business Hui - May
DESCRIPTION:Ho‘āla invites you to a FREE in-person event—perfect for families with keiki ages 0–5! If you’re exploring early childhood education or childcare options\, or need support with preschool scholarships and subsidies\, this event is for you.An email reminder will be sent out with additional details.
URL:https://inpeace.org/event/business-hui-may/
LOCATION:HI
CATEGORIES:Family Economic Capacity Building,INPEACE Center for Entrepreneurship
ATTACH;FMTTYPE=image/png:https://inpeace.org/wp-content/uploads/2023/01/C4E-1.png
ORGANIZER;CN="INPEACE":MAILTO:info@inpeace.org
END:VEVENT
BEGIN:VEVENT
DTSTART;TZID=Pacific/Honolulu:20240507T170000
DTEND;TZID=Pacific/Honolulu:20240507T183000
DTSTAMP:20260423T064945
CREATED:20231217T080936Z
LAST-MODIFIED:20231217T081054Z
UID:10000868-1715101200-1715106600@inpeace.org
SUMMARY:Financial Kai Series: Smart Spending Plan
DESCRIPTION:Ho‘āla invites you to a FREE in-person event—perfect for families with keiki ages 0–5! If you’re exploring early childhood education or childcare options\, or need support with preschool scholarships and subsidies\, this event is for you.An email reminder will be sent out with additional details.
URL:https://inpeace.org/event/financial-kai-series-smart-spending-plan-05072024/
LOCATION:Virtual Event on Zoom
CATEGORIES:Family Economic Capacity Building,Ho'oulu Waiwai
ATTACH;FMTTYPE=image/png:https://inpeace.org/wp-content/uploads/2022/06/MicrosoftTeams-image-1-1.png
ORGANIZER;CN="INPEACE":MAILTO:info@inpeace.org
END:VEVENT
BEGIN:VEVENT
DTSTART;TZID=Pacific/Honolulu:20240430T100000
DTEND;TZID=Pacific/Honolulu:20240430T113000
DTSTAMP:20260423T064945
CREATED:20240112T224706Z
LAST-MODIFIED:20240221T033828Z
UID:10000891-1714471200-1714476600@inpeace.org
SUMMARY:Holomua Business Series - April
DESCRIPTION:Ho‘āla invites you to a FREE in-person event—perfect for families with keiki ages 0–5! If you’re exploring early childhood education or childcare options\, or need support with preschool scholarships and subsidies\, this event is for you.An email reminder will be sent out with additional details.
URL:https://inpeace.org/event/holomua-business-series-april/
LOCATION:HI
CATEGORIES:Family Economic Capacity Building,INPEACE Center for Entrepreneurship
ATTACH;FMTTYPE=image/png:https://inpeace.org/wp-content/uploads/2022/04/Holomua.png
ORGANIZER;CN="INPEACE":MAILTO:info@inpeace.org
END:VEVENT
BEGIN:VEVENT
DTSTART;TZID=Pacific/Honolulu:20240426T083000
DTEND;TZID=Pacific/Honolulu:20240426T113000
DTSTAMP:20260423T064945
CREATED:20240402T050602Z
LAST-MODIFIED:20240402T051154Z
UID:10000899-1714120200-1714131000@inpeace.org
SUMMARY:Keiki Steps Huakaʻi - Oʻahu and Kauaʻi Apr2024
DESCRIPTION:Ho‘āla invites you to a FREE in-person event—perfect for families with keiki ages 0–5! If you’re exploring early childhood education or childcare options\, or need support with preschool scholarships and subsidies\, this event is for you.An email reminder will be sent out with additional details.
URL:https://inpeace.org/event/keiki-steps-huaka%ca%bbi-o%ca%bbahu-and-kaua%ca%bbi-apr2024/
LOCATION:HI
CATEGORIES:Early Learning & School Readiness,Keiki Steps
ATTACH;FMTTYPE=image/png:https://inpeace.org/wp-content/uploads/2023/01/Huakaʻi-Banner-Website.png
ORGANIZER;CN="INPEACE":MAILTO:info@inpeace.org
END:VEVENT
BEGIN:VEVENT
DTSTART;TZID=Pacific/Honolulu:20240426T083000
DTEND;TZID=Pacific/Honolulu:20240426T100000
DTSTAMP:20260423T064945
CREATED:20240402T051928Z
LAST-MODIFIED:20240402T051928Z
UID:10000909-1714120200-1714125600@inpeace.org
SUMMARY:Keiki Steps Lā ʻOhana - Hawaiʻi Apr2024
DESCRIPTION:Ho‘āla invites you to a FREE in-person event—perfect for families with keiki ages 0–5! If you’re exploring early childhood education or childcare options\, or need support with preschool scholarships and subsidies\, this event is for you.An email reminder will be sent out with additional details.
URL:https://inpeace.org/event/keiki-steps-la-%ca%bbohana-hawai%ca%bbi-apr2024/
LOCATION:HI
CATEGORIES:Early Learning & School Readiness,Keiki Steps
ATTACH;FMTTYPE=image/png:https://inpeace.org/wp-content/uploads/2023/02/Keiki-Steps-La-ʻOhana.png
ORGANIZER;CN="INPEACE":MAILTO:info@inpeace.org
END:VEVENT
BEGIN:VEVENT
DTSTART;TZID=Pacific/Honolulu:20240425T180000
DTEND;TZID=Pacific/Honolulu:20240425T203000
DTSTAMP:20260423T064945
CREATED:20231216T211229Z
LAST-MODIFIED:20231216T223908Z
UID:10000749-1714068000-1714077000@inpeace.org
SUMMARY:Hui Pūkoʻa
DESCRIPTION:Ho‘āla invites you to a FREE in-person event—perfect for families with keiki ages 0–5! If you’re exploring early childhood education or childcare options\, or need support with preschool scholarships and subsidies\, this event is for you.An email reminder will be sent out with additional details.
URL:https://inpeace.org/event/hui-puko%ca%bba-04252024/
LOCATION:Community Learning Center at Māʻili\, 87-790 Kulauku Street\, Waianae\, HI\, 96792\, United States
CATEGORIES:Family Economic Capacity Building,Ho'oulu Waiwai
ATTACH;FMTTYPE=image/png:https://inpeace.org/wp-content/uploads/2023/04/HW_Financial-Group-Coaching-Banner-1.png
ORGANIZER;CN="INPEACE":MAILTO:info@inpeace.org
END:VEVENT
BEGIN:VEVENT
DTSTART;TZID=Pacific/Honolulu:20240418T170000
DTEND;TZID=Pacific/Honolulu:20240418T180000
DTSTAMP:20260423T064945
CREATED:20240307T005408Z
LAST-MODIFIED:20240307T005408Z
UID:10000919-1713459600-1713463200@inpeace.org
SUMMARY:Family Literacy and Culture Education Workshop Series
DESCRIPTION:Ho‘āla invites you to a FREE in-person event—perfect for families with keiki ages 0–5! If you’re exploring early childhood education or childcare options\, or need support with preschool scholarships and subsidies\, this event is for you.An email reminder will be sent out with additional details.
URL:https://inpeace.org/event/family-literacy-and-culture-education-workshop-series-4/
LOCATION:Virtual Event on Zoom
ATTACH;FMTTYPE=image/png:https://inpeace.org/wp-content/uploads/2022/08/WEB_Event-Banner-12.png
END:VEVENT
BEGIN:VEVENT
DTSTART;TZID=Pacific/Honolulu:20240418T100000
DTEND;TZID=Pacific/Honolulu:20240418T110000
DTSTAMP:20260423T064945
CREATED:20240109T214102Z
LAST-MODIFIED:20240221T032755Z
UID:10000779-1713434400-1713438000@inpeace.org
SUMMARY:Business Hui - April
DESCRIPTION:Ho‘āla invites you to a FREE in-person event—perfect for families with keiki ages 0–5! If you’re exploring early childhood education or childcare options\, or need support with preschool scholarships and subsidies\, this event is for you.An email reminder will be sent out with additional details.
URL:https://inpeace.org/event/business-hui-april/
LOCATION:HI
CATEGORIES:Family Economic Capacity Building,INPEACE Center for Entrepreneurship
ATTACH;FMTTYPE=image/png:https://inpeace.org/wp-content/uploads/2023/01/C4E-1.png
ORGANIZER;CN="INPEACE":MAILTO:info@inpeace.org
END:VEVENT
BEGIN:VEVENT
DTSTART;TZID=Pacific/Honolulu:20240417T160000
DTEND;TZID=Pacific/Honolulu:20240417T173000
DTSTAMP:20260423T064945
CREATED:20231217T074357Z
LAST-MODIFIED:20231217T074952Z
UID:10000870-1713369600-1713375000@inpeace.org
SUMMARY:E 'Ōpū Ali'i: Teaching Keiki About Finances
DESCRIPTION:Ho‘āla invites you to a FREE in-person event—perfect for families with keiki ages 0–5! If you’re exploring early childhood education or childcare options\, or need support with preschool scholarships and subsidies\, this event is for you.An email reminder will be sent out with additional details.
URL:https://inpeace.org/event/e-opu-alii-teaching-keiki-about-finances-04172024/
LOCATION:Virtual Event on Zoom
CATEGORIES:Family Economic Capacity Building,Ho'oulu Waiwai
ATTACH;FMTTYPE=image/png:https://inpeace.org/wp-content/uploads/2023/01/Hooulu-Waiwai-2.png
ORGANIZER;CN="INPEACE":MAILTO:info@inpeace.org
END:VEVENT
BEGIN:VEVENT
DTSTART;TZID=Pacific/Honolulu:20240412T083000
DTEND;TZID=Pacific/Honolulu:20240412T113000
DTSTAMP:20260423T064945
CREATED:20240402T051632Z
LAST-MODIFIED:20240402T051632Z
UID:10000911-1712910600-1712921400@inpeace.org
SUMMARY:Keiki Steps Huakaʻi - Hawaiʻi Apr2024
DESCRIPTION:Ho‘āla invites you to a FREE in-person event—perfect for families with keiki ages 0–5! If you’re exploring early childhood education or childcare options\, or need support with preschool scholarships and subsidies\, this event is for you.An email reminder will be sent out with additional details.
URL:https://inpeace.org/event/keiki-steps-huaka%ca%bbi-hawai%ca%bbi-apr2024/
LOCATION:HI
CATEGORIES:Early Learning & School Readiness,Keiki Steps
ATTACH;FMTTYPE=image/png:https://inpeace.org/wp-content/uploads/2023/01/Huakaʻi-Banner-Website.png
ORGANIZER;CN="INPEACE":MAILTO:info@inpeace.org
END:VEVENT
BEGIN:VEVENT
DTSTART;TZID=Pacific/Honolulu:20240412T083000
DTEND;TZID=Pacific/Honolulu:20240412T100000
DTSTAMP:20260423T064945
CREATED:20240402T051029Z
LAST-MODIFIED:20240402T051029Z
UID:10000913-1712910600-1712916000@inpeace.org
SUMMARY:Keiki Steps Lā ʻOhana - Kauaʻi and Oʻahu Apr2024
DESCRIPTION:Ho‘āla invites you to a FREE in-person event—perfect for families with keiki ages 0–5! If you’re exploring early childhood education or childcare options\, or need support with preschool scholarships and subsidies\, this event is for you.An email reminder will be sent out with additional details.
URL:https://inpeace.org/event/keiki-steps-la-%ca%bbohana-kaua%ca%bbi-and-o%ca%bbahu-apr2024/
LOCATION:HI
CATEGORIES:Early Learning & School Readiness,Keiki Steps
ATTACH;FMTTYPE=image/png:https://inpeace.org/wp-content/uploads/2023/02/Keiki-Steps-La-ʻOhana.png
ORGANIZER;CN="INPEACE":MAILTO:info@inpeace.org
END:VEVENT
BEGIN:VEVENT
DTSTART;TZID=Pacific/Honolulu:20240410T160000
DTEND;TZID=Pacific/Honolulu:20240410T173000
DTSTAMP:20260423T064945
CREATED:20231217T073026Z
LAST-MODIFIED:20231217T073918Z
UID:10000871-1712764800-1712770200@inpeace.org
SUMMARY:E 'Ōpū Ali'i: Long-Term Estate Planning
DESCRIPTION:Ho‘āla invites you to a FREE in-person event—perfect for families with keiki ages 0–5! If you’re exploring early childhood education or childcare options\, or need support with preschool scholarships and subsidies\, this event is for you.An email reminder will be sent out with additional details.
URL:https://inpeace.org/event/e-opu-alii-long-term-estate-planning-04102024/
LOCATION:Virtual Event on Zoom
CATEGORIES:Family Economic Capacity Building,Ho'oulu Waiwai
ATTACH;FMTTYPE=image/png:https://inpeace.org/wp-content/uploads/2023/01/Hooulu-Waiwai-2.png
ORGANIZER;CN="INPEACE":MAILTO:info@inpeace.org
END:VEVENT
BEGIN:VEVENT
DTSTART;TZID=Pacific/Honolulu:20240404T170000
DTEND;TZID=Pacific/Honolulu:20240404T183000
DTSTAMP:20260423T064945
CREATED:20231217T071832Z
LAST-MODIFIED:20231217T073651Z
UID:10000759-1712250000-1712255400@inpeace.org
SUMMARY:Mo‘ohelu Kālā Session #2
DESCRIPTION:Ho‘āla invites you to a FREE in-person event—perfect for families with keiki ages 0–5! If you’re exploring early childhood education or childcare options\, or need support with preschool scholarships and subsidies\, this event is for you.An email reminder will be sent out with additional details.
URL:https://inpeace.org/event/moohelu-kala-04042024/
LOCATION:Virtual Event on Zoom
CATEGORIES:Family Economic Capacity Building,Ho'oulu Waiwai
ATTACH;FMTTYPE=image/png:https://inpeace.org/wp-content/uploads/2023/01/Hooulu-Waiwai-3.png
ORGANIZER;CN="INPEACE":MAILTO:info@inpeace.org
END:VEVENT
BEGIN:VEVENT
DTSTART;TZID=Pacific/Honolulu:20240402T170000
DTEND;TZID=Pacific/Honolulu:20240402T183000
DTSTAMP:20260423T064945
CREATED:20231217T051037Z
LAST-MODIFIED:20231217T073445Z
UID:10000757-1712077200-1712082600@inpeace.org
SUMMARY:Mo‘ohelu Kālā Session #1
DESCRIPTION:Ho‘āla invites you to a FREE in-person event—perfect for families with keiki ages 0–5! If you’re exploring early childhood education or childcare options\, or need support with preschool scholarships and subsidies\, this event is for you.An email reminder will be sent out with additional details.
URL:https://inpeace.org/event/moohelu-kala-04022024/
LOCATION:Virtual Event on Zoom
CATEGORIES:Family Economic Capacity Building,Ho'oulu Waiwai
ATTACH;FMTTYPE=image/png:https://inpeace.org/wp-content/uploads/2023/01/Hooulu-Waiwai-3.png
ORGANIZER;CN="INPEACE":MAILTO:info@inpeace.org
END:VEVENT
BEGIN:VEVENT
DTSTART;TZID=Pacific/Honolulu:20240328T170000
DTEND;TZID=Pacific/Honolulu:20240328T190000
DTSTAMP:20260423T064945
CREATED:20240307T004916Z
LAST-MODIFIED:20240307T004916Z
UID:10000921-1711645200-1711652400@inpeace.org
SUMMARY:Keiki Steps - Mākua Workshop Series Mar2024
DESCRIPTION:Ho‘āla invites you to a FREE in-person event—perfect for families with keiki ages 0–5! If you’re exploring early childhood education or childcare options\, or need support with preschool scholarships and subsidies\, this event is for you.An email reminder will be sent out with additional details.
URL:https://inpeace.org/event/keiki-steps-makua-workshop-series-mar2024-2/
LOCATION:HI
CATEGORIES:Early Learning & School Readiness,Keiki Steps
ORGANIZER;CN="INPEACE":MAILTO:info@inpeace.org
END:VEVENT
BEGIN:VEVENT
DTSTART;TZID=Pacific/Honolulu:20240328T100000
DTEND;TZID=Pacific/Honolulu:20240328T100000
DTSTAMP:20260423T064945
CREATED:20240109T205922Z
LAST-MODIFIED:20240221T032626Z
UID:10000777-1711620000-1711620000@inpeace.org
SUMMARY:Business Hui - March
DESCRIPTION:Ho‘āla invites you to a FREE in-person event—perfect for families with keiki ages 0–5! If you’re exploring early childhood education or childcare options\, or need support with preschool scholarships and subsidies\, this event is for you.An email reminder will be sent out with additional details.
URL:https://inpeace.org/event/business-hui-march/
LOCATION:HI
CATEGORIES:Family Economic Capacity Building,INPEACE Center for Entrepreneurship
ATTACH;FMTTYPE=image/png:https://inpeace.org/wp-content/uploads/2023/01/C4E-1.png
ORGANIZER;CN="INPEACE":MAILTO:info@inpeace.org
END:VEVENT
BEGIN:VEVENT
DTSTART;TZID=Pacific/Honolulu:20240327T100000
DTEND;TZID=Pacific/Honolulu:20240327T113000
DTSTAMP:20260423T064945
CREATED:20240112T001659Z
LAST-MODIFIED:20240221T033727Z
UID:10000893-1711533600-1711539000@inpeace.org
SUMMARY:Holomua Business Series - March
DESCRIPTION:Ho‘āla invites you to a FREE in-person event—perfect for families with keiki ages 0–5! If you’re exploring early childhood education or childcare options\, or need support with preschool scholarships and subsidies\, this event is for you.An email reminder will be sent out with additional details.
URL:https://inpeace.org/event/holomua-business-series-march/
LOCATION:HI
CATEGORIES:Family Economic Capacity Building,INPEACE Center for Entrepreneurship
ATTACH;FMTTYPE=image/png:https://inpeace.org/wp-content/uploads/2022/04/Holomua.png
ORGANIZER;CN="INPEACE":MAILTO:info@inpeace.org
END:VEVENT
BEGIN:VEVENT
DTSTART;TZID=Pacific/Honolulu:20240320T100000
DTEND;TZID=Pacific/Honolulu:20240320T130000
DTSTAMP:20260423T064945
CREATED:20240820T200024Z
LAST-MODIFIED:20240618T015904Z
UID:10000933-1710928800-1710939600@inpeace.org
SUMMARY:Preschool Here I Come! - Ka Makana Alii
DESCRIPTION:Ho‘āla invites you to a FREE in-person event—perfect for families with keiki ages 0–5! If you’re exploring early childhood education or childcare options\, or need support with preschool scholarships and subsidies\, this event is for you.An email reminder will be sent out with additional details.
URL:https://inpeace.org/event/preschool-here-i-come-ka-makana-alii-2/
LOCATION:Ka Makana Ali’i\, 91-5431\, Kapolei\, HI\, 96707\, United States
CATEGORIES:Early Learning & School Readiness,Hoala
ATTACH;FMTTYPE=image/png:https://inpeace.org/wp-content/uploads/2023/10/Hoala-Workshop-1.png
ORGANIZER;CN="INPEACE":MAILTO:info@inpeace.org
END:VEVENT
BEGIN:VEVENT
DTSTART;TZID=Pacific/Honolulu:20240315T083000
DTEND;TZID=Pacific/Honolulu:20240315T100000
DTSTAMP:20260423T064945
CREATED:20240228T110407Z
LAST-MODIFIED:20240228T110407Z
UID:10000922-1710491400-1710496800@inpeace.org
SUMMARY:Keiki Steps Lā ʻOhana - Mar2024
DESCRIPTION:Ho‘āla invites you to a FREE in-person event—perfect for families with keiki ages 0–5! If you’re exploring early childhood education or childcare options\, or need support with preschool scholarships and subsidies\, this event is for you.An email reminder will be sent out with additional details.
URL:https://inpeace.org/event/keiki-steps-la-%ca%bbohana-mar2024/
LOCATION:HI
CATEGORIES:Early Learning & School Readiness,Keiki Steps
ATTACH;FMTTYPE=image/png:https://inpeace.org/wp-content/uploads/2023/02/Keiki-Steps-La-ʻOhana.png
ORGANIZER;CN="INPEACE":MAILTO:info@inpeace.org
END:VEVENT
BEGIN:VEVENT
DTSTART;TZID=Pacific/Honolulu:20240313T170000
DTEND;TZID=Pacific/Honolulu:20240313T190000
DTSTAMP:20260423T064945
CREATED:20240208T212554Z
LAST-MODIFIED:20240208T214225Z
UID:10000878-1710349200-1710356400@inpeace.org
SUMMARY:Mini Lesson Planning - Culture in Curriculum
DESCRIPTION:Ho‘āla invites you to a FREE in-person event—perfect for families with keiki ages 0–5! If you’re exploring early childhood education or childcare options\, or need support with preschool scholarships and subsidies\, this event is for you.An email reminder will be sent out with additional details.
URL:https://inpeace.org/event/mini-lesson-planning-culture-in-curriculum/
LOCATION:Community Learning Center at Māʻili\, 87-790 Kulauku Street\, Waianae\, HI\, 96792\, United States
CATEGORIES:Ka Lama Education Academy
ATTACH;FMTTYPE=image/png:https://inpeace.org/wp-content/uploads/2024/02/Mini-Lesson-Planning.png
END:VEVENT
BEGIN:VEVENT
DTSTART;TZID=Pacific/Honolulu:20240308T170000
DTEND;TZID=Pacific/Honolulu:20240308T190000
DTSTAMP:20260423T064945
CREATED:20240109T204557Z
LAST-MODIFIED:20240229T202409Z
UID:10000775-1709917200-1709924400@inpeace.org
SUMMARY:Pau Hana Fridays
DESCRIPTION:Ho‘āla invites you to a FREE in-person event—perfect for families with keiki ages 0–5! If you’re exploring early childhood education or childcare options\, or need support with preschool scholarships and subsidies\, this event is for you.An email reminder will be sent out with additional details.
URL:https://inpeace.org/event/pau-hana-fridays/
LOCATION:INPEACE Center for Entrepreneurship\, 91-1010 Shangrila Street\, Suite 201\, Kapolei\, 96707\, United States
CATEGORIES:Family Economic Capacity Building,INPEACE Center for Entrepreneurship
ATTACH;FMTTYPE=image/png:https://inpeace.org/wp-content/uploads/2024/01/Pau-hana-fridays-banner-C4E-1.png
ORGANIZER;CN="INPEACE":MAILTO:info@inpeace.org
END:VEVENT
BEGIN:VEVENT
DTSTART;TZID=Pacific/Honolulu:20240306T170000
DTEND;TZID=Pacific/Honolulu:20240306T180000
DTSTAMP:20260423T064945
CREATED:20240228T083036Z
LAST-MODIFIED:20240301T032823Z
UID:10000920-1709744400-1709748000@inpeace.org
SUMMARY:Keiki Steps Mea ʻAi and Mele - Mar2024
DESCRIPTION:Ho‘āla invites you to a FREE in-person event—perfect for families with keiki ages 0–5! If you’re exploring early childhood education or childcare options\, or need support with preschool scholarships and subsidies\, this event is for you.An email reminder will be sent out with additional details.
URL:https://inpeace.org/event/keiki-steps-mea-%ca%bbai-and-mele-mar2024/
LOCATION:Virtual Event on Zoom
CATEGORIES:Early Learning & School Readiness,Keiki Steps
ATTACH;FMTTYPE=image/png:https://inpeace.org/wp-content/uploads/2022/10/WEB_Event-Banner.png
ORGANIZER;CN="INPEACE":MAILTO:info@inpeace.org
END:VEVENT
BEGIN:VEVENT
DTSTART;TZID=Pacific/Honolulu:20240305T160000
DTEND;TZID=Pacific/Honolulu:20240305T173000
DTSTAMP:20260423T064945
CREATED:20231217T064746Z
LAST-MODIFIED:20231217T073355Z
UID:10000758-1709654400-1709659800@inpeace.org
SUMMARY:My Money Mo'olelo
DESCRIPTION:Ho‘āla invites you to a FREE in-person event—perfect for families with keiki ages 0–5! If you’re exploring early childhood education or childcare options\, or need support with preschool scholarships and subsidies\, this event is for you.An email reminder will be sent out with additional details.
URL:https://inpeace.org/event/my-money-moolelo-03052024/
LOCATION:Virtual Event on Zoom
CATEGORIES:Family Economic Capacity Building,Ho'oulu Waiwai
ATTACH;FMTTYPE=image/png:https://inpeace.org/wp-content/uploads/2023/03/HW_My-Money-Moʻolelo.png
ORGANIZER;CN="INPEACE":MAILTO:info@inpeace.org
END:VEVENT
BEGIN:VEVENT
DTSTART;TZID=Pacific/Honolulu:20240227T100000
DTEND;TZID=Pacific/Honolulu:20240227T113000
DTSTAMP:20260423T064945
CREATED:20231228T225335Z
LAST-MODIFIED:20240221T033639Z
UID:10000773-1709028000-1709033400@inpeace.org
SUMMARY:Holomua Business Series - February
DESCRIPTION:Ho‘āla invites you to a FREE in-person event—perfect for families with keiki ages 0–5! If you’re exploring early childhood education or childcare options\, or need support with preschool scholarships and subsidies\, this event is for you.An email reminder will be sent out with additional details.
URL:https://inpeace.org/event/holomua-business-series-february/
LOCATION:HI
CATEGORIES:Family Economic Capacity Building,INPEACE Center for Entrepreneurship
ATTACH;FMTTYPE=image/png:https://inpeace.org/wp-content/uploads/2022/04/Holomua.png
ORGANIZER;CN="INPEACE":MAILTO:info@inpeace.org
END:VEVENT
BEGIN:VEVENT
DTSTART;TZID=Pacific/Honolulu:20240224T093000
DTEND;TZID=Pacific/Honolulu:20240224T153000
DTSTAMP:20260423T064945
CREATED:20231216T223115Z
LAST-MODIFIED:20240213T014359Z
UID:10000756-1708767000-1708788600@inpeace.org
SUMMARY:Financial Date Night
DESCRIPTION:Ho‘āla invites you to a FREE in-person event—perfect for families with keiki ages 0–5! If you’re exploring early childhood education or childcare options\, or need support with preschool scholarships and subsidies\, this event is for you.An email reminder will be sent out with additional details.
URL:https://inpeace.org/event/financial-date-night-02242024/
LOCATION:Community Learning Center at Māʻili\, 87-790 Kulauku Street\, Waianae\, HI\, 96792\, United States
CATEGORIES:Family Economic Capacity Building,Ho'oulu Waiwai
ATTACH;FMTTYPE=image/png:https://inpeace.org/wp-content/uploads/2022/12/Hooulu-Waiwai-1.png
ORGANIZER;CN="INPEACE":MAILTO:info@inpeace.org
END:VEVENT
BEGIN:VEVENT
DTSTART;TZID=Pacific/Honolulu:20240223T083000
DTEND;TZID=Pacific/Honolulu:20240223T113000
DTSTAMP:20260423T064945
CREATED:20240131T173446Z
LAST-MODIFIED:20240131T173524Z
UID:10000881-1708677000-1708687800@inpeace.org
SUMMARY:Keiki Steps Huakaʻi - Oʻahu and Kauaʻi Feb2024
DESCRIPTION:Ho‘āla invites you to a FREE in-person event—perfect for families with keiki ages 0–5! If you’re exploring early childhood education or childcare options\, or need support with preschool scholarships and subsidies\, this event is for you.An email reminder will be sent out with additional details.
URL:https://inpeace.org/event/keiki-steps-huaka%ca%bbi-oahu-and-kauai-feb2024-2/
LOCATION:HI
CATEGORIES:Early Learning & School Readiness,Keiki Steps
ATTACH;FMTTYPE=image/png:https://inpeace.org/wp-content/uploads/2023/01/Huakaʻi-Banner-Website.png
ORGANIZER;CN="INPEACE":MAILTO:info@inpeace.org
END:VEVENT
BEGIN:VEVENT
DTSTART;TZID=Pacific/Honolulu:20240223T083000
DTEND;TZID=Pacific/Honolulu:20240223T100000
DTSTAMP:20260423T064945
CREATED:20240131T174134Z
LAST-MODIFIED:20240131T174134Z
UID:10000879-1708677000-1708682400@inpeace.org
SUMMARY:Keiki Steps Lā ʻOhana - Hawaiʻi Feb2024
DESCRIPTION:Ho‘āla invites you to a FREE in-person event—perfect for families with keiki ages 0–5! If you’re exploring early childhood education or childcare options\, or need support with preschool scholarships and subsidies\, this event is for you.An email reminder will be sent out with additional details.
URL:https://inpeace.org/event/keiki-steps-la-%ca%bbohana-hawai%ca%bbi-feb2024/
LOCATION:HI
CATEGORIES:Early Learning & School Readiness,Keiki Steps
ATTACH;FMTTYPE=image/png:https://inpeace.org/wp-content/uploads/2023/02/Keiki-Steps-La-ʻOhana.png
ORGANIZER;CN="INPEACE":MAILTO:info@inpeace.org
END:VEVENT
BEGIN:VEVENT
DTSTART;TZID=Pacific/Honolulu:20240221T180000
DTEND;TZID=Pacific/Honolulu:20240221T203000
DTSTAMP:20260423T064945
CREATED:20231216T210118Z
LAST-MODIFIED:20231216T223746Z
UID:10000747-1708538400-1708547400@inpeace.org
SUMMARY:Hui Pūkoʻa
DESCRIPTION:Ho‘āla invites you to a FREE in-person event—perfect for families with keiki ages 0–5! If you’re exploring early childhood education or childcare options\, or need support with preschool scholarships and subsidies\, this event is for you.An email reminder will be sent out with additional details.
URL:https://inpeace.org/event/hui-puko%ca%bba-02212024/
LOCATION:Community Learning Center at Māʻili\, 87-790 Kulauku Street\, Waianae\, HI\, 96792\, United States
CATEGORIES:Family Economic Capacity Building,Ho'oulu Waiwai
ATTACH;FMTTYPE=image/png:https://inpeace.org/wp-content/uploads/2023/04/HW_Financial-Group-Coaching-Banner-1.png
ORGANIZER;CN="INPEACE":MAILTO:info@inpeace.org
END:VEVENT
BEGIN:VEVENT
DTSTART;TZID=Pacific/Honolulu:20240215T170000
DTEND;TZID=Pacific/Honolulu:20240215T180000
DTSTAMP:20260423T064945
CREATED:20240113T001334Z
LAST-MODIFIED:20240113T002840Z
UID:10000889-1708016400-1708020000@inpeace.org
SUMMARY:Family Literacy and Culture Education Workshop Series
DESCRIPTION:Ho‘āla invites you to a FREE in-person event—perfect for families with keiki ages 0–5! If you’re exploring early childhood education or childcare options\, or need support with preschool scholarships and subsidies\, this event is for you.An email reminder will be sent out with additional details.
URL:https://inpeace.org/event/family-literacy-and-culture-education-workshop-series-3/
LOCATION:Virtual Event on Zoom
ATTACH;FMTTYPE=image/png:https://inpeace.org/wp-content/uploads/2022/08/WEB_Event-Banner-12.png
END:VEVENT
END:VCALENDAR