BEGIN:VCALENDAR
VERSION:2.0
PRODID:-//INPEACE - ECPv6.15.13.1//NONSGML v1.0//EN
CALSCALE:GREGORIAN
METHOD:PUBLISH
X-WR-CALNAME:INPEACE
X-ORIGINAL-URL:https://inpeace.org
X-WR-CALDESC:Events for INPEACE
REFRESH-INTERVAL;VALUE=DURATION:PT1H
X-Robots-Tag:noindex
X-PUBLISHED-TTL:PT1H
BEGIN:VTIMEZONE
TZID:Pacific/Honolulu
BEGIN:STANDARD
TZOFFSETFROM:-1000
TZOFFSETTO:-1000
TZNAME:HST
DTSTART:20220101T000000
END:STANDARD
END:VTIMEZONE
BEGIN:VEVENT
DTSTART;TZID=Pacific/Honolulu:20230330T100000
DTEND;TZID=Pacific/Honolulu:20230330T140000
DTSTAMP:20260420T052742
CREATED:20230310T133013Z
LAST-MODIFIED:20230323T014503Z
UID:10000686-1680170400-1680184800@inpeace.org
SUMMARY:Preschool Here I Come! Fair
DESCRIPTION:Ho‘āla invites you to a FREE in-person event—perfect for families with keiki ages 0–5! If you’re exploring early childhood education or childcare options\, or need support with preschool scholarships and subsidies\, this event is for you.An email reminder will be sent out with additional details.
URL:https://inpeace.org/event/preschool-here-i-come-fair-2/
LOCATION:Ka Makana Ali’i\, 91-5431\, Kapolei\, HI\, 96707\, United States
CATEGORIES:Hoala
ATTACH;FMTTYPE=image/jpeg:https://inpeace.org/wp-content/uploads/2023/02/d7edceab-6564-43a9-8a5e-5070a004b00a.jpg
ORGANIZER;CN="INPEACE":MAILTO:info@inpeace.org
END:VEVENT
BEGIN:VEVENT
DTSTART;TZID=Pacific/Honolulu:20230328T173000
DTEND;TZID=Pacific/Honolulu:20230328T190000
DTSTAMP:20260420T052742
CREATED:20230312T102421Z
LAST-MODIFIED:20230312T105118Z
UID:10000700-1680024600-1680030000@inpeace.org
SUMMARY:Financial Group Coaching
DESCRIPTION:Ho‘āla invites you to a FREE in-person event—perfect for families with keiki ages 0–5! If you’re exploring early childhood education or childcare options\, or need support with preschool scholarships and subsidies\, this event is for you.An email reminder will be sent out with additional details.
URL:https://inpeace.org/event/financial-group-coaching-03282023/
LOCATION:Community Learning Center at Māʻili\, 87-790 Kulauku Street\, Waianae\, HI\, 96792\, United States
CATEGORIES:Family Economic Capacity Building,Ho'oulu Waiwai
ORGANIZER;CN="INPEACE":MAILTO:info@inpeace.org
END:VEVENT
BEGIN:VEVENT
DTSTART;TZID=Pacific/Honolulu:20230328T100000
DTEND;TZID=Pacific/Honolulu:20230328T113000
DTSTAMP:20260420T052742
CREATED:20230117T031007Z
LAST-MODIFIED:20230207T014625Z
UID:10000664-1679997600-1680003000@inpeace.org
SUMMARY:Holomua Business Series - March
DESCRIPTION:Ho‘āla invites you to a FREE in-person event—perfect for families with keiki ages 0–5! If you’re exploring early childhood education or childcare options\, or need support with preschool scholarships and subsidies\, this event is for you.An email reminder will be sent out with additional details.
URL:https://inpeace.org/event/hbs03282023/
LOCATION:HI
CATEGORIES:Family Economic Capacity Building,INPEACE Center for Entrepreneurship
ATTACH;FMTTYPE=image/png:https://inpeace.org/wp-content/uploads/2022/04/Holomua.png
ORGANIZER;CN="INPEACE":MAILTO:info@inpeace.org
END:VEVENT
BEGIN:VEVENT
DTSTART;TZID=Pacific/Honolulu:20230322T170000
DTEND;TZID=Pacific/Honolulu:20230322T180000
DTSTAMP:20260420T052742
CREATED:20230118T201532Z
LAST-MODIFIED:20230118T202844Z
UID:10000774-1679504400-1679508000@inpeace.org
SUMMARY:Keiki Steps Mea ʻAi and Mele
DESCRIPTION:Ho‘āla invites you to a FREE in-person event—perfect for families with keiki ages 0–5! If you’re exploring early childhood education or childcare options\, or need support with preschool scholarships and subsidies\, this event is for you.An email reminder will be sent out with additional details.
URL:https://inpeace.org/event/keiki-steps-mea-%ca%bbai-and-mele-3/
LOCATION:Virtual Event on Zoom
CATEGORIES:Keiki Steps
ATTACH;FMTTYPE=image/png:https://inpeace.org/wp-content/uploads/2022/10/WEB_Event-Banner.png
ORGANIZER;CN="INPEACE":MAILTO:info@inpeace.org
END:VEVENT
BEGIN:VEVENT
DTSTART;TZID=Pacific/Honolulu:20230320T170000
DTEND;TZID=Pacific/Honolulu:20230320T183000
DTSTAMP:20260420T052742
CREATED:20230117T064449Z
LAST-MODIFIED:20230117T210252Z
UID:10000674-1679331600-1679337000@inpeace.org
SUMMARY:E 'Opu Ali'i: Teaching Keiki About Finances
DESCRIPTION:Ho‘āla invites you to a FREE in-person event—perfect for families with keiki ages 0–5! If you’re exploring early childhood education or childcare options\, or need support with preschool scholarships and subsidies\, this event is for you.An email reminder will be sent out with additional details.
URL:https://inpeace.org/event/eoatkaf03202023/
LOCATION:HI
CATEGORIES:Family Economic Capacity Building,Ho'oulu Waiwai
ATTACH;FMTTYPE=image/png:https://inpeace.org/wp-content/uploads/2023/01/Hooulu-Waiwai-2.png
ORGANIZER;CN="INPEACE":MAILTO:info@inpeace.org
END:VEVENT
BEGIN:VEVENT
DTSTART;TZID=Pacific/Honolulu:20230309T100000
DTEND;TZID=Pacific/Honolulu:20230309T110000
DTSTAMP:20260420T052742
CREATED:20230117T030419Z
LAST-MODIFIED:20230207T014702Z
UID:10000662-1678356000-1678359600@inpeace.org
SUMMARY:Business Hui - March
DESCRIPTION:Ho‘āla invites you to a FREE in-person event—perfect for families with keiki ages 0–5! If you’re exploring early childhood education or childcare options\, or need support with preschool scholarships and subsidies\, this event is for you.An email reminder will be sent out with additional details.
URL:https://inpeace.org/event/bh03092023/
LOCATION:HI
CATEGORIES:Family Economic Capacity Building,INPEACE Center for Entrepreneurship
ATTACH;FMTTYPE=image/png:https://inpeace.org/wp-content/uploads/2023/01/C4E-1.png
ORGANIZER;CN="INPEACE":MAILTO:info@inpeace.org
END:VEVENT
BEGIN:VEVENT
DTSTART;VALUE=DATE:20230309
DTEND;VALUE=DATE:20230605
DTSTAMP:20260420T052742
CREATED:20230306T235201Z
LAST-MODIFIED:20230307T000918Z
UID:10000685-1678320000-1685923199@inpeace.org
SUMMARY:The Science of Kapa at Imiloa
DESCRIPTION:Ho‘āla invites you to a FREE in-person event—perfect for families with keiki ages 0–5! If you’re exploring early childhood education or childcare options\, or need support with preschool scholarships and subsidies\, this event is for you.An email reminder will be sent out with additional details.
URL:https://inpeace.org/event/the-science-of-kapa-at-imiloa/2023-03-09/
LOCATION:‘Imiloa Astronomy Center\, 600 Imiloa Place\, Hilo\, HI\, 96720\, United States
CATEGORIES:Educational Equity and Leadership,Featured Event,Kaulele
ATTACH;FMTTYPE=image/png:https://inpeace.org/wp-content/uploads/2022/12/WEB_The-Story-of-Kapa-1.png
ORGANIZER;CN="INPEACE":MAILTO:info@inpeace.org
END:VEVENT
BEGIN:VEVENT
DTSTART;TZID=Pacific/Honolulu:20230308T100000
DTEND;TZID=Pacific/Honolulu:20230308T150000
DTSTAMP:20260420T052742
CREATED:20230216T200514Z
LAST-MODIFIED:20230217T021521Z
UID:10000680-1678269600-1678287600@inpeace.org
SUMMARY:Preschool Here I Come Fair
DESCRIPTION:Ho‘āla invites you to a FREE in-person event—perfect for families with keiki ages 0–5! If you’re exploring early childhood education or childcare options\, or need support with preschool scholarships and subsidies\, this event is for you.An email reminder will be sent out with additional details.
URL:https://inpeace.org/event/preschool-here-i-come-fair/
LOCATION:Ka Makana Ali’i\, 91-5431\, Kapolei\, HI\, 96707\, United States
CATEGORIES:Early Learning & School Readiness,Hoala
ATTACH;FMTTYPE=image/jpeg:https://inpeace.org/wp-content/uploads/2023/02/d7edceab-6564-43a9-8a5e-5070a004b00a.jpg
ORGANIZER;CN="INPEACE":MAILTO:info@inpeace.org
END:VEVENT
BEGIN:VEVENT
DTSTART;TZID=Pacific/Honolulu:20230307T170000
DTEND;TZID=Pacific/Honolulu:20230307T193000
DTSTAMP:20260420T052742
CREATED:20230131T201828Z
LAST-MODIFIED:20230302T232945Z
UID:10000767-1678208400-1678217400@inpeace.org
SUMMARY:Teacher Career Navigation
DESCRIPTION:Ho‘āla invites you to a FREE in-person event—perfect for families with keiki ages 0–5! If you’re exploring early childhood education or childcare options\, or need support with preschool scholarships and subsidies\, this event is for you.An email reminder will be sent out with additional details.
URL:https://inpeace.org/event/teacher-career-navigation-2/
LOCATION:Virtual Event on Zoom
CATEGORIES:Ka Lama Education Academy
ATTACH;FMTTYPE=image/png:https://inpeace.org/wp-content/uploads/2023/01/MicrosoftTeams-image-8.png
END:VEVENT
BEGIN:VEVENT
DTSTART;TZID=Pacific/Honolulu:20230307T170000
DTEND;TZID=Pacific/Honolulu:20230307T183000
DTSTAMP:20260420T052742
CREATED:20221219T222904Z
LAST-MODIFIED:20221219T222904Z
UID:10000746-1678208400-1678213800@inpeace.org
SUMMARY:Financial Kai Series - Maximizing & Protecting Income
DESCRIPTION:Ho‘āla invites you to a FREE in-person event—perfect for families with keiki ages 0–5! If you’re exploring early childhood education or childcare options\, or need support with preschool scholarships and subsidies\, this event is for you.An email reminder will be sent out with additional details.
URL:https://inpeace.org/event/fks03072023/
LOCATION:Virtual Event on Zoom
CATEGORIES:Family Economic Capacity Building,Ho'oulu Waiwai
ATTACH;FMTTYPE=image/png:https://inpeace.org/wp-content/uploads/2022/06/MicrosoftTeams-image-1-1.png
ORGANIZER;CN="INPEACE":MAILTO:info@inpeace.org
END:VEVENT
BEGIN:VEVENT
DTSTART;TZID=Pacific/Honolulu:20230306T170000
DTEND;TZID=Pacific/Honolulu:20230306T183000
DTSTAMP:20260420T052742
CREATED:20230117T062312Z
LAST-MODIFIED:20230117T210410Z
UID:10000672-1678122000-1678127400@inpeace.org
SUMMARY:E 'Opu Ali'i: Estate Planning
DESCRIPTION:Ho‘āla invites you to a FREE in-person event—perfect for families with keiki ages 0–5! If you’re exploring early childhood education or childcare options\, or need support with preschool scholarships and subsidies\, this event is for you.An email reminder will be sent out with additional details.
URL:https://inpeace.org/event/eoaep03062023/
LOCATION:HI
CATEGORIES:Family Economic Capacity Building,Ho'oulu Waiwai
ATTACH;FMTTYPE=image/png:https://inpeace.org/wp-content/uploads/2023/01/Hooulu-Waiwai-2.png
ORGANIZER;CN="INPEACE":MAILTO:info@inpeace.org
END:VEVENT
BEGIN:VEVENT
DTSTART;TZID=Pacific/Honolulu:20230304T170000
DTEND;TZID=Pacific/Honolulu:20230304T190000
DTSTAMP:20260420T052742
CREATED:20230131T195051Z
LAST-MODIFIED:20230131T195051Z
UID:10000769-1677949200-1677956400@inpeace.org
SUMMARY:Keiki Steps Pō ʻOhana - Hilo
DESCRIPTION:Ho‘āla invites you to a FREE in-person event—perfect for families with keiki ages 0–5! If you’re exploring early childhood education or childcare options\, or need support with preschool scholarships and subsidies\, this event is for you.An email reminder will be sent out with additional details.
URL:https://inpeace.org/event/keiki-steps-po-%ca%bbohana-hilo-3/
LOCATION:HI
CATEGORIES:Keiki Steps
ATTACH;FMTTYPE=image/png:https://inpeace.org/wp-content/uploads/2022/11/WEB_Event-Banner-Keiki-Steps-Po-ʻOhana.png
ORGANIZER;CN="INPEACE":MAILTO:info@inpeace.org
END:VEVENT
BEGIN:VEVENT
DTSTART;TZID=Pacific/Honolulu:20230304T170000
DTEND;TZID=Pacific/Honolulu:20230304T190000
DTSTAMP:20260420T052742
CREATED:20221201T203733Z
LAST-MODIFIED:20230203T020348Z
UID:10000784-1677949200-1677956400@inpeace.org
SUMMARY:Keiki Steps Pō ʻOhana - Oʻahu
DESCRIPTION:Ho‘āla invites you to a FREE in-person event—perfect for families with keiki ages 0–5! If you’re exploring early childhood education or childcare options\, or need support with preschool scholarships and subsidies\, this event is for you.An email reminder will be sent out with additional details.
URL:https://inpeace.org/event/keiki-steps-po-%ca%bbohana-o%ca%bbahu-2/
LOCATION:Ka Makana Ali’i\, 91-5431\, Kapolei\, HI\, 96707\, United States
CATEGORIES:Keiki Steps
ATTACH;FMTTYPE=image/png:https://inpeace.org/wp-content/uploads/2022/11/WEB_Event-Banner-Keiki-Steps-Po-ʻOhana.png
ORGANIZER;CN="INPEACE":MAILTO:info@inpeace.org
END:VEVENT
BEGIN:VEVENT
DTSTART;TZID=Pacific/Honolulu:20230302T170000
DTEND;TZID=Pacific/Honolulu:20230302T183000
DTSTAMP:20260420T052742
CREATED:20230117T061338Z
LAST-MODIFIED:20230117T210556Z
UID:10000670-1677776400-1677781800@inpeace.org
SUMMARY:Mo‘ohelu Kālā
DESCRIPTION:Ho‘āla invites you to a FREE in-person event—perfect for families with keiki ages 0–5! If you’re exploring early childhood education or childcare options\, or need support with preschool scholarships and subsidies\, this event is for you.An email reminder will be sent out with additional details.
URL:https://inpeace.org/event/mh03022023/
LOCATION:Virtual Event on Zoom
CATEGORIES:Family Economic Capacity Building,Ho'oulu Waiwai
ATTACH;FMTTYPE=image/png:https://inpeace.org/wp-content/uploads/2023/01/Hooulu-Waiwai-3.png
ORGANIZER;CN="INPEACE":MAILTO:info@inpeace.org
END:VEVENT
BEGIN:VEVENT
DTSTART;TZID=Pacific/Honolulu:20230228T100000
DTEND;TZID=Pacific/Honolulu:20230228T113000
DTSTAMP:20260420T052742
CREATED:20230110T230052Z
LAST-MODIFIED:20230207T014802Z
UID:10000658-1677578400-1677583800@inpeace.org
SUMMARY:Holomua Business Series - February
DESCRIPTION:Ho‘āla invites you to a FREE in-person event—perfect for families with keiki ages 0–5! If you’re exploring early childhood education or childcare options\, or need support with preschool scholarships and subsidies\, this event is for you.An email reminder will be sent out with additional details.
URL:https://inpeace.org/event/hbs02282023/
LOCATION:HI
CATEGORIES:Family Economic Capacity Building,INPEACE Center for Entrepreneurship
ATTACH;FMTTYPE=image/png:https://inpeace.org/wp-content/uploads/2022/04/Holomua.png
ORGANIZER;CN="INPEACE":MAILTO:info@inpeace.org
END:VEVENT
BEGIN:VEVENT
DTSTART;TZID=Pacific/Honolulu:20230224T083000
DTEND;TZID=Pacific/Honolulu:20230224T113000
DTSTAMP:20260420T052742
CREATED:20230203T023248Z
LAST-MODIFIED:20230203T023355Z
UID:10000764-1677227400-1677238200@inpeace.org
SUMMARY:Keiki Steps Huakaʻi - Oʻahu/Hawaiʻi
DESCRIPTION:Ho‘āla invites you to a FREE in-person event—perfect for families with keiki ages 0–5! If you’re exploring early childhood education or childcare options\, or need support with preschool scholarships and subsidies\, this event is for you.An email reminder will be sent out with additional details.
URL:https://inpeace.org/event/keiki-steps-huaka%ca%bbi-in-person-o%ca%bbahu-hawai%ca%bbi/
LOCATION:HI
CATEGORIES:Keiki Steps
ATTACH;FMTTYPE=image/png:https://inpeace.org/wp-content/uploads/2023/01/Huakaʻi-Banner-Website.png
ORGANIZER;CN="INPEACE":MAILTO:info@inpeace.org
END:VEVENT
BEGIN:VEVENT
DTSTART;TZID=Pacific/Honolulu:20230223T173000
DTEND;TZID=Pacific/Honolulu:20230223T193000
DTSTAMP:20260420T052742
CREATED:20221123T200710Z
LAST-MODIFIED:20221230T192751Z
UID:10000790-1677173400-1677180600@inpeace.org
SUMMARY:STEM Roundtable - Osmosis
DESCRIPTION:Ho‘āla invites you to a FREE in-person event—perfect for families with keiki ages 0–5! If you’re exploring early childhood education or childcare options\, or need support with preschool scholarships and subsidies\, this event is for you.An email reminder will be sent out with additional details.
URL:https://inpeace.org/event/stem-roundtable-osmosis-2/
LOCATION:Ka Makana Ali’i\, 91-5431\, Kapolei\, HI\, 96707\, United States
CATEGORIES:Ka Lama Education Academy
ATTACH;FMTTYPE=image/png:https://inpeace.org/wp-content/uploads/2022/08/Featured-Image.STR_.png
ORGANIZER;CN="INPEACE":MAILTO:info@inpeace.org
END:VEVENT
BEGIN:VEVENT
DTSTART;TZID=Pacific/Honolulu:20230222T173000
DTEND;TZID=Pacific/Honolulu:20230222T193000
DTSTAMP:20260420T052742
CREATED:20221219T223939Z
LAST-MODIFIED:20230123T234304Z
UID:10000744-1677087000-1677094200@inpeace.org
SUMMARY:Financial Date Night
DESCRIPTION:Ho‘āla invites you to a FREE in-person event—perfect for families with keiki ages 0–5! If you’re exploring early childhood education or childcare options\, or need support with preschool scholarships and subsidies\, this event is for you.An email reminder will be sent out with additional details.
URL:https://inpeace.org/event/fdn02162023/
LOCATION:Ka Makana Ali’i\, 91-5431\, Kapolei\, HI\, 96707\, United States
CATEGORIES:Family Economic Capacity Building,Ho'oulu Waiwai
ATTACH;FMTTYPE=image/png:https://inpeace.org/wp-content/uploads/2022/12/Hooulu-Waiwai-1.png
ORGANIZER;CN="INPEACE":MAILTO:info@inpeace.org
END:VEVENT
BEGIN:VEVENT
DTSTART;TZID=Pacific/Honolulu:20230221T170000
DTEND;TZID=Pacific/Honolulu:20230221T183000
DTSTAMP:20260420T052742
CREATED:20221219T222409Z
LAST-MODIFIED:20221219T222409Z
UID:10000748-1676998800-1677004200@inpeace.org
SUMMARY:Financial Kai Series - Borrowing Basics
DESCRIPTION:Ho‘āla invites you to a FREE in-person event—perfect for families with keiki ages 0–5! If you’re exploring early childhood education or childcare options\, or need support with preschool scholarships and subsidies\, this event is for you.An email reminder will be sent out with additional details.
URL:https://inpeace.org/event/fks02212023/
LOCATION:Virtual Event on Zoom
CATEGORIES:Family Economic Capacity Building,Ho'oulu Waiwai
ATTACH;FMTTYPE=image/png:https://inpeace.org/wp-content/uploads/2022/06/MicrosoftTeams-image-1-1.png
ORGANIZER;CN="INPEACE":MAILTO:info@inpeace.org
END:VEVENT
BEGIN:VEVENT
DTSTART;TZID=Pacific/Honolulu:20230217T083000
DTEND;TZID=Pacific/Honolulu:20230217T100000
DTSTAMP:20260420T052742
CREATED:20230203T022122Z
LAST-MODIFIED:20230203T022122Z
UID:10000765-1676622600-1676628000@inpeace.org
SUMMARY:Keiki Steps Lā ʻOhana - Hilo
DESCRIPTION:Ho‘āla invites you to a FREE in-person event—perfect for families with keiki ages 0–5! If you’re exploring early childhood education or childcare options\, or need support with preschool scholarships and subsidies\, this event is for you.An email reminder will be sent out with additional details.
URL:https://inpeace.org/event/keiki-steps-la-%ca%bbohana-hilo/
LOCATION:HI
CATEGORIES:Keiki Steps
ATTACH;FMTTYPE=image/png:https://inpeace.org/wp-content/uploads/2023/02/Keiki-Steps-La-ʻOhana.png
ORGANIZER;CN="INPEACE":MAILTO:info@inpeace.org
END:VEVENT
BEGIN:VEVENT
DTSTART;TZID=Pacific/Honolulu:20230217T083000
DTEND;TZID=Pacific/Honolulu:20230217T100000
DTSTAMP:20260420T052743
CREATED:20230202T020521Z
LAST-MODIFIED:20230203T022217Z
UID:10000766-1676622600-1676628000@inpeace.org
SUMMARY:Keiki Steps Lā ʻOhana - Oʻahu
DESCRIPTION:Ho‘āla invites you to a FREE in-person event—perfect for families with keiki ages 0–5! If you’re exploring early childhood education or childcare options\, or need support with preschool scholarships and subsidies\, this event is for you.An email reminder will be sent out with additional details.
URL:https://inpeace.org/event/keiki-steps-la-%ca%bbohana-o%ca%bbahu/
LOCATION:HI
CATEGORIES:Keiki Steps
ATTACH;FMTTYPE=image/png:https://inpeace.org/wp-content/uploads/2023/02/Keiki-Steps-La-ʻOhana.png
ORGANIZER;CN="INPEACE":MAILTO:info@inpeace.org
END:VEVENT
BEGIN:VEVENT
DTSTART;TZID=Pacific/Honolulu:20230216T170000
DTEND;TZID=Pacific/Honolulu:20230216T180000
DTSTAMP:20260420T052743
CREATED:20230112T233324Z
LAST-MODIFIED:20230118T174031Z
UID:10000660-1676566800-1676570400@inpeace.org
SUMMARY:Family Literacy and Cultural Education Night
DESCRIPTION:Ho‘āla invites you to a FREE in-person event—perfect for families with keiki ages 0–5! If you’re exploring early childhood education or childcare options\, or need support with preschool scholarships and subsidies\, this event is for you.An email reminder will be sent out with additional details.
URL:https://inpeace.org/event/family-literacy-and-cultural-education-night/
LOCATION:HI
ATTACH;FMTTYPE=image/png:https://inpeace.org/wp-content/uploads/2022/08/WEB_Event-Banner-12.png
END:VEVENT
BEGIN:VEVENT
DTSTART;TZID=Pacific/Honolulu:20230216T100000
DTEND;TZID=Pacific/Honolulu:20230216T110000
DTSTAMP:20260420T052743
CREATED:20230110T225452Z
LAST-MODIFIED:20230207T014723Z
UID:10000776-1676541600-1676545200@inpeace.org
SUMMARY:Business Hui - February
DESCRIPTION:Ho‘āla invites you to a FREE in-person event—perfect for families with keiki ages 0–5! If you’re exploring early childhood education or childcare options\, or need support with preschool scholarships and subsidies\, this event is for you.An email reminder will be sent out with additional details.
URL:https://inpeace.org/event/bh02162023/
LOCATION:HI
CATEGORIES:Family Economic Capacity Building,INPEACE Center for Entrepreneurship
ATTACH;FMTTYPE=image/png:https://inpeace.org/wp-content/uploads/2023/01/C4E-1.png
ORGANIZER;CN="INPEACE":MAILTO:info@inpeace.org
END:VEVENT
BEGIN:VEVENT
DTSTART;TZID=Pacific/Honolulu:20230215T170000
DTEND;TZID=Pacific/Honolulu:20230215T180000
DTSTAMP:20260420T052743
CREATED:20230118T200041Z
LAST-MODIFIED:20230118T203705Z
UID:10000676-1676480400-1676484000@inpeace.org
SUMMARY:Keiki Steps Mea ʻAi and Mele
DESCRIPTION:Ho‘āla invites you to a FREE in-person event—perfect for families with keiki ages 0–5! If you’re exploring early childhood education or childcare options\, or need support with preschool scholarships and subsidies\, this event is for you.An email reminder will be sent out with additional details.
URL:https://inpeace.org/event/keiki-steps-mea-%ca%bbai-and-mele-2/
LOCATION:Virtual Event on Zoom
CATEGORIES:Keiki Steps
ATTACH;FMTTYPE=image/png:https://inpeace.org/wp-content/uploads/2022/10/WEB_Event-Banner.png
ORGANIZER;CN="INPEACE":MAILTO:info@inpeace.org
END:VEVENT
BEGIN:VEVENT
DTSTART;TZID=Pacific/Honolulu:20230207T170000
DTEND;TZID=Pacific/Honolulu:20230207T183000
DTSTAMP:20260420T052743
CREATED:20221219T221604Z
LAST-MODIFIED:20221219T221952Z
UID:10000750-1675789200-1675794600@inpeace.org
SUMMARY:Financial Kai Series - Savings Simplified
DESCRIPTION:Ho‘āla invites you to a FREE in-person event—perfect for families with keiki ages 0–5! If you’re exploring early childhood education or childcare options\, or need support with preschool scholarships and subsidies\, this event is for you.An email reminder will be sent out with additional details.
URL:https://inpeace.org/event/fks02072023/
LOCATION:Virtual Event on Zoom
CATEGORIES:Family Economic Capacity Building,Ho'oulu Waiwai
ATTACH;FMTTYPE=image/png:https://inpeace.org/wp-content/uploads/2022/06/MicrosoftTeams-image-1-1.png
ORGANIZER;CN="INPEACE":MAILTO:info@inpeace.org
END:VEVENT
BEGIN:VEVENT
DTSTART;TZID=Pacific/Honolulu:20230201T170000
DTEND;TZID=Pacific/Honolulu:20230201T180000
DTSTAMP:20260420T052743
CREATED:20221219T230339Z
LAST-MODIFIED:20221219T230339Z
UID:10000742-1675270800-1675274400@inpeace.org
SUMMARY:Paying for Childcare and Preschool 5pm
DESCRIPTION:Ho‘āla invites you to a FREE in-person event—perfect for families with keiki ages 0–5! If you’re exploring early childhood education or childcare options\, or need support with preschool scholarships and subsidies\, this event is for you.An email reminder will be sent out with additional details.
URL:https://inpeace.org/event/pfcp020120235pm/
LOCATION:Virtual Event on Zoom
CATEGORIES:Family Economic Capacity Building,Ho'oulu Waiwai
ATTACH;FMTTYPE=image/png:https://inpeace.org/wp-content/uploads/2022/07/MicrosoftTeams-image-2.png
ORGANIZER;CN="INPEACE":MAILTO:info@inpeace.org
END:VEVENT
BEGIN:VEVENT
DTSTART;TZID=Pacific/Honolulu:20230201T120000
DTEND;TZID=Pacific/Honolulu:20230201T130000
DTSTAMP:20260420T052743
CREATED:20221219T225921Z
LAST-MODIFIED:20221219T230018Z
UID:10000743-1675252800-1675256400@inpeace.org
SUMMARY:Paying for Childcare and Preschool 12pm
DESCRIPTION:Ho‘āla invites you to a FREE in-person event—perfect for families with keiki ages 0–5! If you’re exploring early childhood education or childcare options\, or need support with preschool scholarships and subsidies\, this event is for you.An email reminder will be sent out with additional details.
URL:https://inpeace.org/event/pfcp0201202312pm/
LOCATION:Virtual Event on Zoom
CATEGORIES:Family Economic Capacity Building,Ho'oulu Waiwai
ATTACH;FMTTYPE=image/png:https://inpeace.org/wp-content/uploads/2022/07/MicrosoftTeams-image-2.png
ORGANIZER;CN="INPEACE":MAILTO:info@inpeace.org
END:VEVENT
BEGIN:VEVENT
DTSTART;TZID=Pacific/Honolulu:20230131T170000
DTEND;TZID=Pacific/Honolulu:20230131T193000
DTSTAMP:20260420T052743
CREATED:20221123T213200Z
LAST-MODIFIED:20221228T175522Z
UID:10000788-1675184400-1675193400@inpeace.org
SUMMARY:Nānā I Ke Kumu\, K-12 Teachers - Spring 2023 Series
DESCRIPTION:Ho‘āla invites you to a FREE in-person event—perfect for families with keiki ages 0–5! If you’re exploring early childhood education or childcare options\, or need support with preschool scholarships and subsidies\, this event is for you.An email reminder will be sent out with additional details.
URL:https://inpeace.org/event/nana-i-ke-kumu-k-12-teachers-spring-2023-series-2/
LOCATION:Virtual Event on Zoom
ATTACH;FMTTYPE=image/png:https://inpeace.org/wp-content/uploads/2022/07/NIKK.Featured-Image.png
END:VEVENT
BEGIN:VEVENT
DTSTART;TZID=Pacific/Honolulu:20230131T170000
DTEND;TZID=Pacific/Honolulu:20230131T193000
DTSTAMP:20260420T052743
CREATED:20221123T213039Z
LAST-MODIFIED:20221228T175421Z
UID:10000789-1675184400-1675193400@inpeace.org
SUMMARY:Nānā I Ke Kumu\, Early Childhood Teachers - Spring 2023 Series
DESCRIPTION:Ho‘āla invites you to a FREE in-person event—perfect for families with keiki ages 0–5! If you’re exploring early childhood education or childcare options\, or need support with preschool scholarships and subsidies\, this event is for you.An email reminder will be sent out with additional details.
URL:https://inpeace.org/event/nana-i-ke-kumu-k-12-teachers-spring-2023-series/
LOCATION:Virtual Event on Zoom
CATEGORIES:Ka Lama Education Academy
ATTACH;FMTTYPE=image/png:https://inpeace.org/wp-content/uploads/2022/07/NIKK.Featured-Image.png
END:VEVENT
BEGIN:VEVENT
DTSTART;TZID=Pacific/Honolulu:20230131T100000
DTEND;TZID=Pacific/Honolulu:20230131T113000
DTSTAMP:20260420T052743
CREATED:20230103T232339Z
LAST-MODIFIED:20230117T063641Z
UID:10000740-1675159200-1675164600@inpeace.org
SUMMARY:Holomua Business Series - January
DESCRIPTION:Ho‘āla invites you to a FREE in-person event—perfect for families with keiki ages 0–5! If you’re exploring early childhood education or childcare options\, or need support with preschool scholarships and subsidies\, this event is for you.An email reminder will be sent out with additional details.
URL:https://inpeace.org/event/hbs01312023/
LOCATION:HI
CATEGORIES:Family Economic Capacity Building,INPEACE Center for Entrepreneurship
ATTACH;FMTTYPE=image/png:https://inpeace.org/wp-content/uploads/2022/04/Holomua.png
ORGANIZER;CN="INPEACE":MAILTO:info@inpeace.org
END:VEVENT
END:VCALENDAR