BEGIN:VCALENDAR
VERSION:2.0
PRODID:-//INPEACE - ECPv6.15.13.1//NONSGML v1.0//EN
CALSCALE:GREGORIAN
METHOD:PUBLISH
X-ORIGINAL-URL:https://inpeace.org
X-WR-CALDESC:Events for INPEACE
REFRESH-INTERVAL;VALUE=DURATION:PT1H
X-Robots-Tag:noindex
X-PUBLISHED-TTL:PT1H
BEGIN:VTIMEZONE
TZID:Pacific/Honolulu
BEGIN:STANDARD
TZOFFSETFROM:-1000
TZOFFSETTO:-1000
TZNAME:HST
DTSTART:20250101T000000
END:STANDARD
END:VTIMEZONE
BEGIN:VEVENT
DTSTART;TZID=Pacific/Honolulu:20260128T110000
DTEND;TZID=Pacific/Honolulu:20260426T190000
DTSTAMP:20260420T034352
CREATED:20260203T230349Z
LAST-MODIFIED:20260203T230349Z
UID:10001187-1769598000-1777230000@inpeace.org
SUMMARY:Explorers of Lawaiʻa at ʻImiloa Astronomy Center
DESCRIPTION:Experience the newest Kaulele exhibit\, Explorers of Lawaiʻa\, at the ʻImiloa Astronomy Center in Hilo from January 28 through April 26. This Kaulele pop-up exhibit brings Hawaiian culture and science together through interactive activities and hands-on learning centered around our traditional fishing practices. \nPerfect for families\, keiki\, and lifelong learners. \nLearn more at imiloahawaii.org 
URL:https://inpeace.org/event/explorers-of-lawai%ca%bba-at-%ca%bbimiloa-astronomy-center/
LOCATION:‘Imiloa Astronomy Center\, 600 Imiloa Place\, Hilo\, HI\, 96720\, United States
CATEGORIES:Educational Equity and Leadership,Kaulele
ATTACH;FMTTYPE=image/png:https://inpeace.org/wp-content/uploads/2026/02/image-1-e1770159557128.png
ORGANIZER;CN="INPEACE":MAILTO:info@inpeace.org
END:VEVENT
BEGIN:VEVENT
DTSTART;TZID=Pacific/Honolulu:20260421T170000
DTEND;TZID=Pacific/Honolulu:20260421T183000
DTSTAMP:20260420T034352
CREATED:20260312T214716Z
LAST-MODIFIED:20260312T214716Z
UID:10001196-1776790800-1776796200@inpeace.org
SUMMARY:Kumu Pathways - Praxis Support
DESCRIPTION:Kumu Pathways Series – Praxis Support\nFor PreK-12 Educators Throughout Hawai’i\nPreK-12 educators will learn information about the process for securing PRAXIS during teacher license training\, gain knowledge of requirements (pre/post licensure)\, learn about different partners in the licensing process (Hawaii Teachers Standard Board – HTSB\, Educational Testing Service – ETS\, SATEP programs\, etc.) as well as how to add a teaching field (STEM\, SPED\, ECE\, etc.) with Ka Lama supports. \n\nDate: Tuesday\, April 21\, 2026\nTime: 5:00-6:30pm\nLocation: Zoom (Link will be provided in a follow-up email\, after completing registration).\n\nPlease RSVP at your earliest convenience to secure your place. Space is limited\, so don’t miss out on this valuable opportunity! \n\nOnce you RSVP\, please also check your Spam/Junk folder of the listed email for a confirmation message.\n\n \n 
URL:https://inpeace.org/event/kumu-pathways-praxis-support-5/
LOCATION:Virtual Event on Zoom
CATEGORIES:Educational Equity and Leadership,Ka Lama Education Academy
ATTACH;FMTTYPE=image/png:https://inpeace.org/wp-content/uploads/2025/08/KLEA_Kumu-Pathway-Series-.png
ORGANIZER;CN="INPEACE":MAILTO:info@inpeace.org
END:VEVENT
BEGIN:VEVENT
DTSTART;TZID=Pacific/Honolulu:20260429T170000
DTEND;TZID=Pacific/Honolulu:20260429T190000
DTSTAMP:20260420T034352
CREATED:20260122T213301Z
LAST-MODIFIED:20260122T230944Z
UID:10001140-1777482000-1777489200@inpeace.org
SUMMARY:EmpowerED - Recharge and Renew
DESCRIPTION:EmpowerED – Recharge and Renew\nThis workshop will focus on the importance of having “me time”. As people with busy lives\, trying to balance school-life\, work-life\, and home-life\, we often do not put enough effort into taking care of ourselves\, or we simply do not have the time. This workshop will provide tips and strategies for promoting personal wellness and rejuvenation. \n\nDate: Wednesday\, April 29\, 2026\nTime: 5:00pm-7:00pm\nLocation: INPEACE – Hale Nānāikeola\n\n87-2116 Farrington Hwy.\, Waiʻanae\, HI 96792\n\n\n\nOnce you RSVP\, please check your Spam/Junk folder of the listed email for a confirmation message\, with specific details. 
URL:https://inpeace.org/event/empowered-recharge-and-renew/
LOCATION:INPEACE at Nānāikeola
CATEGORIES:Educational Equity and Leadership,Ka Lama Education Academy
ATTACH;FMTTYPE=image/jpeg:https://inpeace.org/wp-content/uploads/2025/12/EmpowerED.jpg
ORGANIZER;CN="INPEACE":MAILTO:info@inpeace.org
END:VEVENT
END:VCALENDAR