BEGIN:VCALENDAR
VERSION:2.0
PRODID:-//INPEACE - ECPv6.15.13.1//NONSGML v1.0//EN
CALSCALE:GREGORIAN
METHOD:PUBLISH
X-WR-CALNAME:INPEACE
X-ORIGINAL-URL:https://inpeace.org
X-WR-CALDESC:Events for INPEACE
REFRESH-INTERVAL;VALUE=DURATION:PT1H
X-Robots-Tag:noindex
X-PUBLISHED-TTL:PT1H
BEGIN:VTIMEZONE
TZID:Pacific/Honolulu
BEGIN:STANDARD
TZOFFSETFROM:-1000
TZOFFSETTO:-1000
TZNAME:HST
DTSTART:20250101T000000
END:STANDARD
END:VTIMEZONE
BEGIN:VEVENT
DTSTART;TZID=Pacific/Honolulu:20260429T170000
DTEND;TZID=Pacific/Honolulu:20260429T190000
DTSTAMP:20260423T012535
CREATED:20260122T213301Z
LAST-MODIFIED:20260421T215026Z
UID:10001140-1777482000-1777489200@inpeace.org
SUMMARY:EmpowerED - Recharge and Renew
DESCRIPTION:EmpowerED – Recharge and Renew\nThis workshop will focus on the importance of having “me time”. As people with busy lives\, trying to balance school-life\, work-life\, and home-life\, we often do not put enough effort into taking care of ourselves\, or we simply do not have the time. This workshop will provide tips and strategies for promoting personal wellness and rejuvenation. \n\nDate: Wednesday\, April 29\, 2026\nTime: 5:00pm-7:00pm\nLocation: INPEACE – Hale Nānāikeola\n\n87-2116 Farrington Hwy.\, Waiʻanae\, HI 96792\n\n\n\nOnce you RSVP\, please check your Spam/Junk folder of the listed email for a confirmation message\, with specific details. 
URL:https://inpeace.org/event/empowered-recharge-and-renew/
LOCATION:INPEACE at Nānāikeola
CATEGORIES:Educational Equity and Leadership,Ka Lama Education Academy
ATTACH;FMTTYPE=image/jpeg:https://inpeace.org/wp-content/uploads/2025/12/EmpowerED.jpg
ORGANIZER;CN="INPEACE":MAILTO:info@inpeace.org
END:VEVENT
END:VCALENDAR