BEGIN:VCALENDAR
VERSION:2.0
PRODID:-//INPEACE - ECPv6.15.13.1//NONSGML v1.0//EN
CALSCALE:GREGORIAN
METHOD:PUBLISH
X-ORIGINAL-URL:https://inpeace.org
X-WR-CALDESC:Events for INPEACE
REFRESH-INTERVAL;VALUE=DURATION:PT1H
X-Robots-Tag:noindex
X-PUBLISHED-TTL:PT1H
BEGIN:VTIMEZONE
TZID:Pacific/Honolulu
BEGIN:STANDARD
TZOFFSETFROM:-1000
TZOFFSETTO:-1000
TZNAME:HST
DTSTART:20210101T000000
END:STANDARD
END:VTIMEZONE
BEGIN:VEVENT
DTSTART;TZID=Pacific/Honolulu:20230518T173000
DTEND;TZID=Pacific/Honolulu:20230518T193000
DTSTAMP:20260423T052432
CREATED:20230330T100048Z
LAST-MODIFIED:20230414T235953Z
UID:10000710-1684431000-1684438200@inpeace.org
SUMMARY:Keiki Steps Hōʻike - Oʻahu
DESCRIPTION:Hūi! Join us in celebrating the end of year Hōʻike!\nHōʻike is a public performance highlighting the yearlong learning of our participants\, both mākua and keiki\, shared with their ʻohana and our kaiāulu. \nRegistration for this event is open to all ʻohana of our participants\, special guests and INPEACE participants of other programs. \nLocation: Nānākuli\, Oʻahu – Kalanihoʻokaha Community Learning Center at 89-102 Farrington Hwy. \nIf you have any questions and/or concerns\, please contact us at (808) 693-7222. \nUpon arrival to our in-person event\, there may be an additional consent form that will need to be required\, for all persons in attendance. \nHurry and register now; registration for Oʻahu Hōʻike will close on Friday\, April 28st\, 2023 at 12pm.
URL:https://inpeace.org/event/keiki-steps-ho%ca%bbike-o%ca%bbahu/
CATEGORIES:Keiki Steps
ATTACH;FMTTYPE=image/png:https://inpeace.org/wp-content/uploads/2023/05/Keiki-Steps-Hoʻike.png
ORGANIZER;CN="INPEACE":MAILTO:info@inpeace.org
END:VEVENT
BEGIN:VEVENT
DTSTART;VALUE=DATE:20230512
DTEND;VALUE=DATE:20230513
DTSTAMP:20260423T052432
CREATED:20230330T100004Z
LAST-MODIFIED:20230415T000024Z
UID:10000708-1683849600-1683935999@inpeace.org
SUMMARY:Keiki Steps Hōʻike - Hawaiʻi
DESCRIPTION:Hūi! Join us in celebrating the end of year Hōʻike!\nHōʻike is a public performance highlighting the yearlong learning of our participants\, both mākua and keiki\, shared with their ʻohana and our kaiāulu. \nRegistration for this event is open to all ʻohana of our participants\, special guests and INPEACE participants of other programs. \nLocation: Hilo\, Hawaiʻi – Specific address is forthcoming \nIf you have any questions and/or concerns\, please contact us at (808) 693-7222. \nUpon arrival to our in-person event\, there may be an additional consent form that will need to be required\, for all persons in attendance. \nHurry and register now; registration for Hawaiʻi Hōʻike will close on Friday\, April 21st\, 2023 at 12pm.
URL:https://inpeace.org/event/keiki-steps-ho%ca%bbike-hawai%ca%bbi/
CATEGORIES:Keiki Steps
ATTACH;FMTTYPE=image/png:https://inpeace.org/wp-content/uploads/2023/05/Keiki-Steps-Hoʻike.png
ORGANIZER;CN="INPEACE":MAILTO:info@inpeace.org
END:VEVENT
BEGIN:VEVENT
DTSTART;TZID=Pacific/Honolulu:20230502T170000
DTEND;TZID=Pacific/Honolulu:20230502T190000
DTSTAMP:20260423T052432
CREATED:20230321T040049Z
LAST-MODIFIED:20230321T041751Z
UID:10000704-1683046800-1683054000@inpeace.org
SUMMARY:Keiki Steps Pō ʻOhana - Oʻahu
DESCRIPTION:Hūi! Join us in this extension of our morning services to ʻohana.\nAlready registered!? Great\, join us and register below. \nInterested in our program!? Register below and we’ll contact you. \nUpon entrance to our in-person Oʻahu event\, a consent form will need to be completed for all persons in attendance. \nHurry and register soon! Registration for this May event closes on April 6\, 2023. Mahalo!
URL:https://inpeace.org/event/keiki-steps-po-%ca%bbohana-oahu-4/
CATEGORIES:Keiki Steps
ATTACH;FMTTYPE=image/png:https://inpeace.org/wp-content/uploads/2022/11/WEB_Event-Banner-Keiki-Steps-Po-ʻOhana.png
ORGANIZER;CN="INPEACE":MAILTO:info@inpeace.org
END:VEVENT
BEGIN:VEVENT
DTSTART;TZID=Pacific/Honolulu:20230502T170000
DTEND;TZID=Pacific/Honolulu:20230502T190000
DTSTAMP:20260423T052432
CREATED:20230301T192928Z
LAST-MODIFIED:20230321T042056Z
UID:10000683-1683046800-1683054000@inpeace.org
SUMMARY:Keiki Steps Pō ʻOhana - Hilo
DESCRIPTION:Hūi! Join us in this extension of our morning services to ʻohana.\nAlready registered!? Great\, join us and register below. \nInterested in our program!? Register below and we’ll contact you. \nUpon entrance to our in-person Oʻahu event\, a consent form will need to be completed for all persons in attendance. \nHurry and register soon! Registration for this May event closes on April 6\, 2023. Mahalo!
URL:https://inpeace.org/event/keiki-steps-po-%ca%bbohana-hilo/
CATEGORIES:Keiki Steps
ATTACH;FMTTYPE=image/png:https://inpeace.org/wp-content/uploads/2022/11/WEB_Event-Banner-Keiki-Steps-Po-ʻOhana.png
ORGANIZER;CN="INPEACE":MAILTO:info@inpeace.org
END:VEVENT
BEGIN:VEVENT
DTSTART;TZID=Pacific/Honolulu:20230428T083000
DTEND;TZID=Pacific/Honolulu:20230428T113000
DTSTAMP:20260423T052432
CREATED:20230203T024903Z
LAST-MODIFIED:20230321T043140Z
UID:10000762-1682670600-1682681400@inpeace.org
SUMMARY:Keiki Steps Huakaʻi - Oʻahu/Hawaiʻi
DESCRIPTION:Hūi! Join us in this extension of our morning services to ʻohana.\nOur huakaʻi (field trip) events are an extension of our morning services to families with keiki ages newborn to 5 years of age (prior to kindergarten). \nRegistration for this event is closed to enrolled participants only. If you are interested in registering with our program\, please contact us at (808) 693-7222. \nIsland specific huakaʻi details\, including applicable admission fees\, are available via our class platform and/or via our staff in your virtual and in-person classes. \nUpon arrival to our in-person event\, there may be an additional consent form that will need to be required for all persons in attendance. \nHurry and register! Registration for this April event closes on April 6\, 2023. Mahalo!
URL:https://inpeace.org/event/keiki-steps-huaka%ca%bbi-o%ca%bbahu-hawai%ca%bbi-2/
CATEGORIES:Keiki Steps
ATTACH;FMTTYPE=image/png:https://inpeace.org/wp-content/uploads/2023/01/Huakaʻi-Banner-Website.png
ORGANIZER;CN="INPEACE":MAILTO:info@inpeace.org
END:VEVENT
BEGIN:VEVENT
DTSTART;TZID=Pacific/Honolulu:20230421T083000
DTEND;TZID=Pacific/Honolulu:20230421T100000
DTSTAMP:20260423T052432
CREATED:20230227T202500Z
LAST-MODIFIED:20230321T043803Z
UID:10000682-1682065800-1682071200@inpeace.org
SUMMARY:Keiki Steps Lā ʻOhana - Hilo
DESCRIPTION:Hūi! Join us in this extension of our morning services to ʻohana.\nOur Lā ʻOhana events are an extension of our regular morning services to families with keiki ages newborn to 5 years of age (prior to kindergarten). \nRegistration for this event is closed to enrolled participants only. If you are interested in registering with our program\, please contact us at (808) 693-7222. \nIsland specific event details are available via our class platform and/or from our staff in your virtual/ in-person classes. \nUpon arrival to our in-person event\, there may be an additional consent form that will be required for all persons in attendance. \nHurry and register soon! Registration for this April event closes on March 31\, 2023. Mahalo!
URL:https://inpeace.org/event/keiki-steps-la-%ca%bbohana-hilo-2/
CATEGORIES:Keiki Steps
ATTACH;FMTTYPE=image/png:https://inpeace.org/wp-content/uploads/2023/02/Keiki-Steps-La-ʻOhana.png
ORGANIZER;CN="INPEACE":MAILTO:info@inpeace.org
END:VEVENT
BEGIN:VEVENT
DTSTART;TZID=Pacific/Honolulu:20230421T083000
DTEND;TZID=Pacific/Honolulu:20230421T100000
DTSTAMP:20260423T052432
CREATED:20230227T201908Z
LAST-MODIFIED:20230321T043646Z
UID:10000681-1682065800-1682071200@inpeace.org
SUMMARY:Keiki Steps Lā ʻOhana - Oʻahu
DESCRIPTION:Hūi! Join us in this extension of our morning services to ʻohana.\nOur Lā ʻOhana events are an extension of our regular morning services to families with keiki ages newborn to 5 years of age (prior to kindergarten). \nRegistration for this event is closed to enrolled participants only. If you are interested in registering with our program\, please contact us at (808) 693-7222. \nIsland specific event details are available via our class platform and/or from our staff in your virtual/ in-person classes. \nUpon arrival to our in-person event\, there may be an additional consent form that will be required for all persons in attendance. \nHurry and register soon! Registration for this April event closes on March 31\, 2023.  Mahalo!
URL:https://inpeace.org/event/keiki-steps-la-%ca%bbohana-o%ca%bbahu-2/
CATEGORIES:Keiki Steps
ATTACH;FMTTYPE=image/png:https://inpeace.org/wp-content/uploads/2023/02/Keiki-Steps-La-ʻOhana.png
ORGANIZER;CN="INPEACE":MAILTO:info@inpeace.org
END:VEVENT
BEGIN:VEVENT
DTSTART;TZID=Pacific/Honolulu:20230331T083000
DTEND;TZID=Pacific/Honolulu:20230331T113000
DTSTAMP:20260423T052432
CREATED:20230203T023953Z
LAST-MODIFIED:20230203T024025Z
UID:10000763-1680251400-1680262200@inpeace.org
SUMMARY:Keiki Steps Huakaʻi - Oʻahu/Hawaiʻi
DESCRIPTION:Huī! Join us in this extension of our morning services to ʻohana.\nOur huakaʻi (field trip) events are an extension of our morning services to families with keiki ages newborn to 5 years of age (prior to kindergarten). \nRegistration for this event is closed to enrolled participants only. If you are interested in registering with our program\, please contact us at (808) 693-7222. \nIsland specific huakaʻi details are available via our class platform and/or via our staff in your virtual and in-person classes.  \nUpon arrival to our in-person event\, there may be an additional consent form that will need to be required for all persons in attendance. \nHurry and register! Mahalo!
URL:https://inpeace.org/event/keiki-steps-huaka%ca%bbi-o%ca%bbahu-hawai%ca%bbi/
CATEGORIES:Keiki Steps
ATTACH;FMTTYPE=image/png:https://inpeace.org/wp-content/uploads/2023/01/Huakaʻi-Banner-Website.png
ORGANIZER;CN="INPEACE":MAILTO:info@inpeace.org
END:VEVENT
BEGIN:VEVENT
DTSTART;TZID=Pacific/Honolulu:20230330T100000
DTEND;TZID=Pacific/Honolulu:20230330T140000
DTSTAMP:20260423T052432
CREATED:20230310T133013Z
LAST-MODIFIED:20230323T014503Z
UID:10000686-1680170400-1680184800@inpeace.org
SUMMARY:Preschool Here I Come! Fair
DESCRIPTION:Ho‘āla invites you to a free in-person event! Perfect for families with Keikis from 0-5 seeking Childhood Education and Subsidy for preschool.\nAn email reminder will be sent out with details of the event.\n \n 
URL:https://inpeace.org/event/preschool-here-i-come-fair-2/
LOCATION:Ka Makana Ali’i\, 91-5431\, Kapolei\, HI\, 96707\, United States
CATEGORIES:Hoala
ATTACH;FMTTYPE=image/jpeg:https://inpeace.org/wp-content/uploads/2023/02/d7edceab-6564-43a9-8a5e-5070a004b00a.jpg
ORGANIZER;CN="INPEACE":MAILTO:info@inpeace.org
END:VEVENT
BEGIN:VEVENT
DTSTART;TZID=Pacific/Honolulu:20230322T170000
DTEND;TZID=Pacific/Honolulu:20230322T180000
DTSTAMP:20260423T052432
CREATED:20230118T201532Z
LAST-MODIFIED:20230118T202844Z
UID:10000774-1679504400-1679508000@inpeace.org
SUMMARY:Keiki Steps Mea ʻAi and Mele
DESCRIPTION:Join us as we celebrate Jonah Kūhiō Kalanianaʻole with a virtual food demonstration and music.\nRegistration for this event will close on Wednesday\, March 1st.
URL:https://inpeace.org/event/keiki-steps-mea-%ca%bbai-and-mele-3/
LOCATION:Virtual Event on Zoom
CATEGORIES:Keiki Steps
ATTACH;FMTTYPE=image/png:https://inpeace.org/wp-content/uploads/2022/10/WEB_Event-Banner.png
ORGANIZER;CN="INPEACE":MAILTO:info@inpeace.org
END:VEVENT
BEGIN:VEVENT
DTSTART;TZID=Pacific/Honolulu:20230308T100000
DTEND;TZID=Pacific/Honolulu:20230308T150000
DTSTAMP:20260423T052432
CREATED:20230216T200514Z
LAST-MODIFIED:20230217T021521Z
UID:10000680-1678269600-1678287600@inpeace.org
SUMMARY:Preschool Here I Come Fair
DESCRIPTION:Hoala invites you to a free in-person event\, perfect for families with children 0-5 years old. Come and Go at your convenience. \n\nAn email reminder will be sent out with fair details.
URL:https://inpeace.org/event/preschool-here-i-come-fair/
LOCATION:Ka Makana Ali’i\, 91-5431\, Kapolei\, HI\, 96707\, United States
CATEGORIES:Early Learning & School Readiness,Hoala
ATTACH;FMTTYPE=image/jpeg:https://inpeace.org/wp-content/uploads/2023/02/d7edceab-6564-43a9-8a5e-5070a004b00a.jpg
ORGANIZER;CN="INPEACE":MAILTO:info@inpeace.org
END:VEVENT
BEGIN:VEVENT
DTSTART;TZID=Pacific/Honolulu:20230304T170000
DTEND;TZID=Pacific/Honolulu:20230304T190000
DTSTAMP:20260423T052432
CREATED:20230131T195051Z
LAST-MODIFIED:20230131T195051Z
UID:10000769-1677949200-1677956400@inpeace.org
SUMMARY:Keiki Steps Pō ʻOhana - Hilo
DESCRIPTION:Huī! Join us in this extension of our morning services to ʻohana.\nAlready registered!? Great\, join us and register below. \nInterested in our program!? Register below and we’ll contact you. \nUpon entrance to our in-person Oʻahu event\, a consent form will need to be completed for all persons in attendance. \nHurry and register soon! Registration for this March event closes on February 13\, 2022. Mahalo!
URL:https://inpeace.org/event/keiki-steps-po-%ca%bbohana-hilo-3/
CATEGORIES:Keiki Steps
ATTACH;FMTTYPE=image/png:https://inpeace.org/wp-content/uploads/2022/11/WEB_Event-Banner-Keiki-Steps-Po-ʻOhana.png
ORGANIZER;CN="INPEACE":MAILTO:info@inpeace.org
END:VEVENT
BEGIN:VEVENT
DTSTART;TZID=Pacific/Honolulu:20230304T170000
DTEND;TZID=Pacific/Honolulu:20230304T190000
DTSTAMP:20260423T052432
CREATED:20221201T203733Z
LAST-MODIFIED:20230203T020348Z
UID:10000784-1677949200-1677956400@inpeace.org
SUMMARY:Keiki Steps Pō ʻOhana - Oʻahu
DESCRIPTION:Huī! Join us in this extension of our morning services to ʻohana.\nAlready registered!? Great\, join us and register below. \nInterested in our program!? Register below and we’ll contact you. \nUpon entrance to our in-person Oʻahu event\, a consent form will need to be completed for all persons in attendance. \nHurry and register soon! Registration for this March event closes on February 13\, 2022. Mahalo!
URL:https://inpeace.org/event/keiki-steps-po-%ca%bbohana-o%ca%bbahu-2/
LOCATION:Ka Makana Ali’i\, 91-5431\, Kapolei\, HI\, 96707\, United States
CATEGORIES:Keiki Steps
ATTACH;FMTTYPE=image/png:https://inpeace.org/wp-content/uploads/2022/11/WEB_Event-Banner-Keiki-Steps-Po-ʻOhana.png
ORGANIZER;CN="INPEACE":MAILTO:info@inpeace.org
END:VEVENT
BEGIN:VEVENT
DTSTART;TZID=Pacific/Honolulu:20230224T083000
DTEND;TZID=Pacific/Honolulu:20230224T113000
DTSTAMP:20260423T052432
CREATED:20230203T023248Z
LAST-MODIFIED:20230203T023355Z
UID:10000764-1677227400-1677238200@inpeace.org
SUMMARY:Keiki Steps Huakaʻi - Oʻahu/Hawaiʻi
DESCRIPTION:Huī! Join us in this extension of our morning services to ʻohana.\nOur huakaʻi (field trip) events are an extension of our morning services to families with keiki ages newborn to 5 years of age (prior to kindergarten). \nRegistration for this event is closed to enrolled participants only. If you are interested in registering with our program\, please contact us at (808) 693-7222. \nIsland specific huakaʻi details are available via our class platform and/or via our staff in your virtual and in-person classes. \nUpon arrival to our in-person event\, there may be an additional consent form that will need to be required for all persons in attendance. \nHurry and register! Mahalo!
URL:https://inpeace.org/event/keiki-steps-huaka%ca%bbi-in-person-o%ca%bbahu-hawai%ca%bbi/
CATEGORIES:Keiki Steps
ATTACH;FMTTYPE=image/png:https://inpeace.org/wp-content/uploads/2023/01/Huakaʻi-Banner-Website.png
ORGANIZER;CN="INPEACE":MAILTO:info@inpeace.org
END:VEVENT
BEGIN:VEVENT
DTSTART;TZID=Pacific/Honolulu:20230217T083000
DTEND;TZID=Pacific/Honolulu:20230217T100000
DTSTAMP:20260423T052432
CREATED:20230203T022122Z
LAST-MODIFIED:20230203T022122Z
UID:10000765-1676622600-1676628000@inpeace.org
SUMMARY:Keiki Steps Lā ʻOhana - Hilo
DESCRIPTION:Huī! Join us in this extension of our morning services to ʻohana.\nOur Lā ʻOhana events are an extension of our regular morning services to families with keiki ages newborn to 5 years of age (prior to kindergarten). \nRegistration for this event is closed to enrolled participants only. If you are interested in registering with our program\, please contact us at (808) 693-7222. \nIsland specific event details are available via our class platform and/or from our staff in your virtual/ in-person classes. \nUpon arrival to our in-person event\, there may be an additional consent form that will be required for all persons in attendance. \nHurry and register soon! Mahalo!
URL:https://inpeace.org/event/keiki-steps-la-%ca%bbohana-hilo/
CATEGORIES:Keiki Steps
ATTACH;FMTTYPE=image/png:https://inpeace.org/wp-content/uploads/2023/02/Keiki-Steps-La-ʻOhana.png
ORGANIZER;CN="INPEACE":MAILTO:info@inpeace.org
END:VEVENT
BEGIN:VEVENT
DTSTART;TZID=Pacific/Honolulu:20230217T083000
DTEND;TZID=Pacific/Honolulu:20230217T100000
DTSTAMP:20260423T052432
CREATED:20230202T020521Z
LAST-MODIFIED:20230203T022217Z
UID:10000766-1676622600-1676628000@inpeace.org
SUMMARY:Keiki Steps Lā ʻOhana - Oʻahu
DESCRIPTION:Huī! Join us in this extension of our morning services to ʻohana.\nOur Lā ʻOhana events are an extension of our regular morning services to families with keiki ages newborn to 5 years of age (prior to kindergarten). \nRegistration for this event is closed to enrolled participants only. If you are interested in registering with our program\, please contact us at (808) 693-7222. \nIsland specific event details are available via our class platform and/or from our staff in your virtual/ in-person classes. \nUpon arrival to our in-person event\, there may be an additional consent form that will be required for all persons in attendance. \nHurry and register soon! Mahalo!
URL:https://inpeace.org/event/keiki-steps-la-%ca%bbohana-o%ca%bbahu/
CATEGORIES:Keiki Steps
ATTACH;FMTTYPE=image/png:https://inpeace.org/wp-content/uploads/2023/02/Keiki-Steps-La-ʻOhana.png
ORGANIZER;CN="INPEACE":MAILTO:info@inpeace.org
END:VEVENT
BEGIN:VEVENT
DTSTART;TZID=Pacific/Honolulu:20230215T170000
DTEND;TZID=Pacific/Honolulu:20230215T180000
DTSTAMP:20260423T052432
CREATED:20230118T200041Z
LAST-MODIFIED:20230118T203705Z
UID:10000676-1676480400-1676484000@inpeace.org
SUMMARY:Keiki Steps Mea ʻAi and Mele
DESCRIPTION:Join us as we celebrate Hawaiian language with a virtual food demonstration and music.\nRegistration for this event closes on Wednesday\, January 25th.
URL:https://inpeace.org/event/keiki-steps-mea-%ca%bbai-and-mele-2/
LOCATION:Virtual Event on Zoom
CATEGORIES:Keiki Steps
ATTACH;FMTTYPE=image/png:https://inpeace.org/wp-content/uploads/2022/10/WEB_Event-Banner.png
ORGANIZER;CN="INPEACE":MAILTO:info@inpeace.org
END:VEVENT
BEGIN:VEVENT
DTSTART;TZID=Pacific/Honolulu:20230127T083000
DTEND;TZID=Pacific/Honolulu:20230127T113000
DTSTAMP:20260423T052432
CREATED:20230104T062209Z
LAST-MODIFIED:20230125T195828Z
UID:10000739-1674808200-1674819000@inpeace.org
SUMMARY:Keiki Steps Huakaʻi - (In-person\, Oʻahu/Hawaiʻi)
DESCRIPTION:Huī! Join us in this extension of our morning services to ʻohana.\nOur huakaʻi (field trip) events are an extension of our morning services to families with keiki ages newborn to 5 years of age (prior to kindergarten). \nRegistration for this event is closed to enrolled participants only. If you are interested in registering with our program\, please contact us at (808) 693-7222. \nIsland specific huakaʻi details are available via our class platform and/or via our staff in your virtual and in-person classes. \nUpon arrival to our in-person event\, there may be an additional consent form that will need to be required for all persons in attendance. \nHurry and register! Registration for this January Huakaʻi event closes on Friday\, January 6\, 2023 at 12pm HST. Mahalo!
URL:https://inpeace.org/event/keiki-steps-huaka%ca%bbi-inperson-jan2023/
CATEGORIES:Early Learning & School Readiness,Keiki Steps
ATTACH;FMTTYPE=image/png:https://inpeace.org/wp-content/uploads/2023/01/Huakaʻi-Banner-Website.png
ORGANIZER;CN="INPEACE":MAILTO:info@inpeace.org
END:VEVENT
BEGIN:VEVENT
DTSTART;TZID=Pacific/Honolulu:20230118T170000
DTEND;TZID=Pacific/Honolulu:20230118T180000
DTSTAMP:20260423T052432
CREATED:20221219T185821Z
LAST-MODIFIED:20230118T193443Z
UID:10000754-1674061200-1674064800@inpeace.org
SUMMARY:Keiki Steps Mea ʻAi and Mele
DESCRIPTION:Join us as we celebrate Liliʻu.
URL:https://inpeace.org/event/keiki-steps-mea-%ca%bbai-and-mele/
LOCATION:Virtual Event on Zoom
CATEGORIES:Keiki Steps
ATTACH;FMTTYPE=image/png:https://inpeace.org/wp-content/uploads/2022/10/WEB_Event-Banner.png
ORGANIZER;CN="INPEACE":MAILTO:info@inpeace.org
END:VEVENT
BEGIN:VEVENT
DTSTART;TZID=Pacific/Honolulu:20230117T080000
DTEND;TZID=Pacific/Honolulu:20230117T133000
DTSTAMP:20260423T052432
CREATED:20230110T171107Z
LAST-MODIFIED:20230110T171911Z
UID:10000778-1673942400-1673962200@inpeace.org
SUMMARY:Keiki Steps Onipaʻa Huakaʻi - Oʻahu
DESCRIPTION:Huī! Join us in this extension of our morning services to ʻohana.\nOur huakaʻi (field trip) events are an extension of our regular morning services to families with keiki ages newborn to 5 years of age (prior to kindergarten). \nRegistration for this event is closed to enrolled participants only. If you are interested in registering with our program\, please contact us at (808) 693-7222. \nIsland specific huakaʻi details are available via our class platform and/or from our staff in your virtual/ in-person classes. \nUpon arrival to our in-person event\, there may be an additional consent form that will be required for all persons in attendance. \nHurry and register! Availability is based on a first come\, first serve basis or until registration closes on Monday\, January 16th at 12pm HST.
URL:https://inpeace.org/event/keiki-steps-onipa%ca%bba-huaka%ca%bbi-o%ca%bbahu/
CATEGORIES:Keiki Steps
ATTACH;FMTTYPE=image/png:https://inpeace.org/wp-content/uploads/2023/01/Huakaʻi-Banner-Website.png
ORGANIZER;CN="INPEACE":MAILTO:info@inpeace.org
END:VEVENT
BEGIN:VEVENT
DTSTART;TZID=Pacific/Honolulu:20230103T170000
DTEND;TZID=Pacific/Honolulu:20230103T190000
DTSTAMP:20260423T052432
CREATED:20221201T202546Z
LAST-MODIFIED:20221213T134154Z
UID:10000786-1672765200-1672772400@inpeace.org
SUMMARY:Keiki Steps Pō ʻOhana - Hawaiʻi
DESCRIPTION:Huī! Join us in this extension of our morning services to ʻohana.\nAlready registered!? Great\, join us and register below. \nInterested in our program!? Register below and we’ll contact you. \nUpon entrance to our in-person Hawaiʻi event\, a consent form will need to be completed for all persons in attendance. You will be notified of the exact location of this event after registration has closed. \nHurry and register soon! Registration for this January event closes on December 12\, 2022. Mahalo!
URL:https://inpeace.org/event/keiki-steps-po-%ca%bbohana-hawai%ca%bbi/
CATEGORIES:Keiki Steps
ATTACH;FMTTYPE=image/png:https://inpeace.org/wp-content/uploads/2022/11/WEB_Event-Banner-Keiki-Steps-Po-ʻOhana.png
ORGANIZER;CN="INPEACE":MAILTO:info@inpeace.org
END:VEVENT
BEGIN:VEVENT
DTSTART;TZID=Pacific/Honolulu:20230103T170000
DTEND;TZID=Pacific/Honolulu:20230103T190000
DTSTAMP:20260423T052432
CREATED:20221201T201454Z
LAST-MODIFIED:20221213T134119Z
UID:10000787-1672765200-1672772400@inpeace.org
SUMMARY:Keiki Steps Pō ʻOhana - Oʻahu
DESCRIPTION:Huī! Join us in this extension of our morning services to ʻohana.\nAlready registered!? Great\, join us and register below. \nInterested in our program!? Register below and we’ll contact you. \nUpon entrance to our in-person Oʻahu event\, a consent form will need to be completed for all persons in attendance. \nHurry and register soon! Registration for this January event closes on December 12\, 2022. Mahalo!
URL:https://inpeace.org/event/keiki-steps-po-%ca%bbohana-o%ca%bbahu/
LOCATION:Ka Makana Ali’i\, 91-5431\, Kapolei\, HI\, 96707\, United States
CATEGORIES:Keiki Steps
ATTACH;FMTTYPE=image/png:https://inpeace.org/wp-content/uploads/2022/11/WEB_Event-Banner-Keiki-Steps-Po-ʻOhana.png
ORGANIZER;CN="INPEACE":MAILTO:info@inpeace.org
END:VEVENT
BEGIN:VEVENT
DTSTART;TZID=Pacific/Honolulu:20221206T170000
DTEND;TZID=Pacific/Honolulu:20221206T190000
DTSTAMP:20260423T052432
CREATED:20221118T213743Z
LAST-MODIFIED:20221118T221237Z
UID:10000793-1670346000-1670353200@inpeace.org
SUMMARY:Keiki Steps Pō ʻOhana
DESCRIPTION:Huī! Join us in this extension of our morning services to ʻohana. \nAlready registered!? Great\, join us and register below. \nInterested in our program!? Register below and we’ll contact you.
URL:https://inpeace.org/event/keiki-steps-po-%ca%bbohana/
LOCATION:Ka Makana Ali’i\, 91-5431\, Kapolei\, HI\, 96707\, United States
CATEGORIES:Keiki Steps
ATTACH;FMTTYPE=image/png:https://inpeace.org/wp-content/uploads/2022/11/WEB_Event-Banner-Keiki-Steps-Po-ʻOhana.png
ORGANIZER;CN="INPEACE":MAILTO:info@inpeace.org
END:VEVENT
BEGIN:VEVENT
DTSTART;TZID=Pacific/Honolulu:20221123T170000
DTEND;TZID=Pacific/Honolulu:20221123T180000
DTSTAMP:20260423T052432
CREATED:20221031T191648Z
LAST-MODIFIED:20221118T204828Z
UID:10000688-1669222800-1669226400@inpeace.org
SUMMARY:Keiki Steps Mea ʻAi and Mele
DESCRIPTION:Join us as we celebrate Lā Kūʻokoʻa\, Hawaiʻi’s Independence Day\n\n\nRegister here
URL:https://inpeace.org/event/keiki-steps-meaai-mele/
LOCATION:Virtual Event on Zoom
CATEGORIES:Keiki Steps
ATTACH;FMTTYPE=image/png:https://inpeace.org/wp-content/uploads/2022/10/WEB_Event-Banner.png
ORGANIZER;CN="INPEACE":MAILTO:info@inpeace.org
END:VEVENT
BEGIN:VEVENT
DTSTART;TZID=Pacific/Honolulu:20221020T120000
DTEND;TZID=Pacific/Honolulu:20221020T123000
DTSTAMP:20260423T052432
CREATED:20220817T020333Z
LAST-MODIFIED:20220817T023157Z
UID:10000640-1666267200-1666269000@inpeace.org
SUMMARY:Preschool Financial Assistance Series Featuring Preschool Open Doors
DESCRIPTION:Hoala knows the critical role financial assistance plays in your decision to enroll your keiki into early learning programs that promote school readiness.\n\nA Zoom link will be emailed with  workshop confirmation . \n\nRegister here
URL:https://inpeace.org/event/preschool-financial-assistance-series-featuring-child-care-connection-hawaii-2/
CATEGORIES:Hoala
ATTACH;FMTTYPE=image/png:https://inpeace.org/wp-content/uploads/2022/08/MicrosoftTeams-image.png
ORGANIZER;CN="INPEACE":MAILTO:info@inpeace.org
END:VEVENT
BEGIN:VEVENT
DTSTART;TZID=Pacific/Honolulu:20220915T100000
DTEND;TZID=Pacific/Honolulu:20220915T103000
DTSTAMP:20260423T052432
CREATED:20220817T003843Z
LAST-MODIFIED:20220914T202949Z
UID:10000638-1663236000-1663237800@inpeace.org
SUMMARY:Preschool Financial Assistance Series Featuring Child Care Connection Hawaii
DESCRIPTION:Hoala knows the critical role financial assistance plays in your decision to enroll your keiki into early learning programs that promote school readiness.\n\nA Zoom link will be emailed with  workshop confirmation . \n\nRegister here
URL:https://inpeace.org/event/preschool-financial-assistance-series-featuring-child-care-connection-hawaii/
CATEGORIES:Early Learning & School Readiness,Hoala
ATTACH;FMTTYPE=image/png:https://inpeace.org/wp-content/uploads/2022/08/MicrosoftTeams-image.png
ORGANIZER;CN="INPEACE":MAILTO:info@inpeace.org
END:VEVENT
BEGIN:VEVENT
DTSTART;TZID=Pacific/Honolulu:20220818T120000
DTEND;TZID=Pacific/Honolulu:20220818T123000
DTSTAMP:20260423T052432
CREATED:20220722T180056Z
LAST-MODIFIED:20220727T011021Z
UID:10000703-1660824000-1660825800@inpeace.org
SUMMARY:Preschool Financial Assistance Series Featuring Pauahi Keiki Scholars
DESCRIPTION:Hoala knows the critical role financial assistance plays in your decision to enroll your keiki into early learning programs that promote school readiness.\n\nA Zoom link will be emailed with  workshop confirmation . \n\nRegister here
URL:https://inpeace.org/event/preschool-financial-assistance-series-featuring-pauahi-keiki-scholars/
CATEGORIES:Early Learning & School Readiness,Event Listed on Homepage,Hoala
ATTACH;FMTTYPE=image/png:https://inpeace.org/wp-content/uploads/2022/08/MicrosoftTeams-image.png
ORGANIZER;CN="INPEACE":MAILTO:info@inpeace.org
END:VEVENT
BEGIN:VEVENT
DTSTART;TZID=Pacific/Honolulu:20220805T083000
DTEND;TZID=Pacific/Honolulu:20220805T120000
DTSTAMP:20260423T052432
CREATED:20220719T183037Z
LAST-MODIFIED:20220727T011043Z
UID:10000687-1659688200-1659700800@inpeace.org
SUMMARY:Keiki Steps Open House
DESCRIPTION:Huī! E naue mai\, e kipa mai i ko mākou wahi ōpū weuweu lā. Please come and visit our INPEACE Keiki Steps classroom to learn about our Hawaiian culture-based family-child interaction preschool program.\n\nRegister here
URL:https://inpeace.org/event/keiki-steps-open-house/
LOCATION:Ka Makana Ali’i\, 91-5431\, Kapolei\, HI\, 96707\, United States
CATEGORIES:Early Learning & School Readiness,Event Listed on Homepage,Keiki Steps
ATTACH;FMTTYPE=image/png:https://inpeace.org/wp-content/uploads/2022/08/WEB_Event-Banner.png
ORGANIZER;CN="INPEACE":MAILTO:info@inpeace.org
END:VEVENT
END:VCALENDAR