BEGIN:VCALENDAR
VERSION:2.0
PRODID:-//INPEACE - ECPv6.15.13.1//NONSGML v1.0//EN
CALSCALE:GREGORIAN
METHOD:PUBLISH
X-ORIGINAL-URL:https://inpeace.org
X-WR-CALDESC:Events for INPEACE
REFRESH-INTERVAL;VALUE=DURATION:PT1H
X-Robots-Tag:noindex
X-PUBLISHED-TTL:PT1H
BEGIN:VTIMEZONE
TZID:Pacific/Honolulu
BEGIN:STANDARD
TZOFFSETFROM:-1000
TZOFFSETTO:-1000
TZNAME:HST
DTSTART:20230101T000000
END:STANDARD
END:VTIMEZONE
BEGIN:VEVENT
DTSTART;TZID=Pacific/Honolulu:20250509T083000
DTEND;TZID=Pacific/Honolulu:20250509T100000
DTSTAMP:20260420T034949
CREATED:20250503T011459Z
LAST-MODIFIED:20250503T011459Z
UID:10001062-1746779400-1746784800@inpeace.org
SUMMARY:Keiki Steps Lā ʻOhana - May2025
DESCRIPTION:Join us for an hour\, virtually on Zoom\, to celebrate Lili’uokalani with a virtual food demonstration and music.Registration for this event will close on Tuesday\, January 6th at 2pm. Look out for a confirmation email regarding your registration for this event. Closer to the event\, an email with the link to join via ZOOM will be sent to the email used during the registration process.
URL:https://inpeace.org/event/keiki-steps-la-%ca%bbohana-may2025/
CATEGORIES:Early Learning & School Readiness,Keiki Steps
ATTACH;FMTTYPE=image/png:https://inpeace.org/wp-content/uploads/2023/02/Keiki-Steps-La-ʻOhana.png
ORGANIZER;CN="INPEACE":MAILTO:info@inpeace.org
END:VEVENT
BEGIN:VEVENT
DTSTART;TZID=Pacific/Honolulu:20250425T083000
DTEND;TZID=Pacific/Honolulu:20250425T113000
DTSTAMP:20260420T034949
CREATED:20250415T022149Z
LAST-MODIFIED:20250415T022149Z
UID:10001059-1745569800-1745580600@inpeace.org
SUMMARY:Keiki Steps Huakaʻi - Apr2025
DESCRIPTION:Join us for an hour\, virtually on Zoom\, to celebrate Lili’uokalani with a virtual food demonstration and music.Registration for this event will close on Tuesday\, January 6th at 2pm. Look out for a confirmation email regarding your registration for this event. Closer to the event\, an email with the link to join via ZOOM will be sent to the email used during the registration process.
URL:https://inpeace.org/event/keiki-steps-huaka%ca%bbi-apr2025/
CATEGORIES:Early Learning & School Readiness,Keiki Steps
ATTACH;FMTTYPE=image/png:https://inpeace.org/wp-content/uploads/2023/01/Huakaʻi-Banner-Website.png
ORGANIZER;CN="INPEACE":MAILTO:info@inpeace.org
END:VEVENT
BEGIN:VEVENT
DTSTART;TZID=Pacific/Honolulu:20250409T170000
DTEND;TZID=Pacific/Honolulu:20250409T190000
DTSTAMP:20260420T034949
CREATED:20250219T203201Z
LAST-MODIFIED:20250327T204821Z
UID:10001035-1744218000-1744225200@inpeace.org
SUMMARY:Keiki Steps Pō ʻOhana - All Islands Apr2025
DESCRIPTION:Join us for an hour\, virtually on Zoom\, to celebrate Lili’uokalani with a virtual food demonstration and music.Registration for this event will close on Tuesday\, January 6th at 2pm. Look out for a confirmation email regarding your registration for this event. Closer to the event\, an email with the link to join via ZOOM will be sent to the email used during the registration process.
URL:https://inpeace.org/event/keiki-steps-po-%ca%bbohana-all-islands-apr2025/
CATEGORIES:Early Learning & School Readiness,Keiki Steps
ATTACH;FMTTYPE=image/png:https://inpeace.org/wp-content/uploads/2022/11/WEB_Event-Banner-Keiki-Steps-Po-ʻOhana.png
ORGANIZER;CN="INPEACE":MAILTO:info@inpeace.org
END:VEVENT
BEGIN:VEVENT
DTSTART;TZID=Pacific/Honolulu:20250328T083000
DTEND;TZID=Pacific/Honolulu:20250328T113000
DTSTAMP:20260420T034949
CREATED:20250310T234058Z
LAST-MODIFIED:20250310T234058Z
UID:10001039-1743150600-1743161400@inpeace.org
SUMMARY:Keiki Steps Huakaʻi - Mar2025
DESCRIPTION:Join us for an hour\, virtually on Zoom\, to celebrate Lili’uokalani with a virtual food demonstration and music.Registration for this event will close on Tuesday\, January 6th at 2pm. Look out for a confirmation email regarding your registration for this event. Closer to the event\, an email with the link to join via ZOOM will be sent to the email used during the registration process.
URL:https://inpeace.org/event/keiki-steps-huaka%ca%bbi-mar2025/
CATEGORIES:Early Learning & School Readiness,Keiki Steps
ATTACH;FMTTYPE=image/png:https://inpeace.org/wp-content/uploads/2023/01/Huakaʻi-Banner-Website.png
ORGANIZER;CN="INPEACE":MAILTO:info@inpeace.org
END:VEVENT
BEGIN:VEVENT
DTSTART;TZID=Pacific/Honolulu:20250310T170000
DTEND;TZID=Pacific/Honolulu:20250310T190000
DTSTAMP:20260420T034949
CREATED:20250204T020857Z
LAST-MODIFIED:20250220T002441Z
UID:10001029-1741626000-1741633200@inpeace.org
SUMMARY:Keiki Steps Pō ʻOhana - All Islands Mar2025
DESCRIPTION:Join us for an hour\, virtually on Zoom\, to celebrate Lili’uokalani with a virtual food demonstration and music.Registration for this event will close on Tuesday\, January 6th at 2pm. Look out for a confirmation email regarding your registration for this event. Closer to the event\, an email with the link to join via ZOOM will be sent to the email used during the registration process.
URL:https://inpeace.org/event/keiki-steps-po-%ca%bbohana-all-islands-mar2025/
CATEGORIES:Early Learning & School Readiness,Keiki Steps
ATTACH;FMTTYPE=image/png:https://inpeace.org/wp-content/uploads/2022/11/WEB_Event-Banner-Keiki-Steps-Po-ʻOhana.png
ORGANIZER;CN="INPEACE":MAILTO:info@inpeace.org
END:VEVENT
BEGIN:VEVENT
DTSTART;TZID=Pacific/Honolulu:20250305T170000
DTEND;TZID=Pacific/Honolulu:20250305T180000
DTSTAMP:20260420T034949
CREATED:20250219T195713Z
LAST-MODIFIED:20250220T000318Z
UID:10001034-1741194000-1741197600@inpeace.org
SUMMARY:Keiki Steps Mea ʻAi and Mele - Mar2025
DESCRIPTION:Join us for an hour\, virtually on Zoom\, to celebrate Lili’uokalani with a virtual food demonstration and music.Registration for this event will close on Tuesday\, January 6th at 2pm. Look out for a confirmation email regarding your registration for this event. Closer to the event\, an email with the link to join via ZOOM will be sent to the email used during the registration process.
URL:https://inpeace.org/event/keiki-steps-mea-%ca%bbai-and-mele-mar2025/
LOCATION:Virtual Event on Zoom
CATEGORIES:Early Learning & School Readiness,Keiki Steps
ATTACH;FMTTYPE=image/png:https://inpeace.org/wp-content/uploads/2022/10/WEB_Event-Banner.png
ORGANIZER;CN="INPEACE":MAILTO:info@inpeace.org
END:VEVENT
BEGIN:VEVENT
DTSTART;TZID=Pacific/Honolulu:20250228T083000
DTEND;TZID=Pacific/Honolulu:20250228T113000
DTSTAMP:20260420T034949
CREATED:20250128T225954Z
LAST-MODIFIED:20250129T001652Z
UID:10001028-1740731400-1740742200@inpeace.org
SUMMARY:Keiki Steps Huakaʻi - Feb2025
DESCRIPTION:Join us for an hour\, virtually on Zoom\, to celebrate Lili’uokalani with a virtual food demonstration and music.Registration for this event will close on Tuesday\, January 6th at 2pm. Look out for a confirmation email regarding your registration for this event. Closer to the event\, an email with the link to join via ZOOM will be sent to the email used during the registration process.
URL:https://inpeace.org/event/keiki-steps-huaka%ca%bbi-feb2025/
CATEGORIES:Early Learning & School Readiness,Keiki Steps
ATTACH;FMTTYPE=image/png:https://inpeace.org/wp-content/uploads/2023/01/Huakaʻi-Banner-Website.png
ORGANIZER;CN="INPEACE":MAILTO:info@inpeace.org
END:VEVENT
BEGIN:VEVENT
DTSTART;TZID=Pacific/Honolulu:20250214T083000
DTEND;TZID=Pacific/Honolulu:20250214T100000
DTSTAMP:20260420T034949
CREATED:20250128T225424Z
LAST-MODIFIED:20250129T002209Z
UID:10001027-1739521800-1739527200@inpeace.org
SUMMARY:Keiki Steps Lā ʻOhana - Feb2025
DESCRIPTION:Join us for an hour\, virtually on Zoom\, to celebrate Lili’uokalani with a virtual food demonstration and music.Registration for this event will close on Tuesday\, January 6th at 2pm. Look out for a confirmation email regarding your registration for this event. Closer to the event\, an email with the link to join via ZOOM will be sent to the email used during the registration process.
URL:https://inpeace.org/event/keiki-steps-la-%ca%bbohana-feb2025/
CATEGORIES:Early Learning & School Readiness,Keiki Steps
ATTACH;FMTTYPE=image/png:https://inpeace.org/wp-content/uploads/2023/02/Keiki-Steps-La-ʻOhana.png
ORGANIZER;CN="INPEACE":MAILTO:info@inpeace.org
END:VEVENT
BEGIN:VEVENT
DTSTART;TZID=Pacific/Honolulu:20250205T170000
DTEND;TZID=Pacific/Honolulu:20250205T180000
DTSTAMP:20260420T034949
CREATED:20250128T224749Z
LAST-MODIFIED:20250129T002629Z
UID:10001005-1738774800-1738778400@inpeace.org
SUMMARY:Keiki Steps Mea ʻAi and Mele - Feb2025
DESCRIPTION:Join us for an hour\, virtually on Zoom\, to celebrate Lili’uokalani with a virtual food demonstration and music.Registration for this event will close on Tuesday\, January 6th at 2pm. Look out for a confirmation email regarding your registration for this event. Closer to the event\, an email with the link to join via ZOOM will be sent to the email used during the registration process.
URL:https://inpeace.org/event/keiki-steps-mea-%ca%bbai-and-mele-feb2025/
LOCATION:Virtual Event on Zoom
CATEGORIES:Early Learning & School Readiness,Keiki Steps
ATTACH;FMTTYPE=image/png:https://inpeace.org/wp-content/uploads/2022/10/WEB_Event-Banner.png
ORGANIZER;CN="INPEACE":MAILTO:info@inpeace.org
END:VEVENT
BEGIN:VEVENT
DTSTART;TZID=Pacific/Honolulu:20250117T083000
DTEND;TZID=Pacific/Honolulu:20250117T113000
DTSTAMP:20260420T034949
CREATED:20241121T231656Z
LAST-MODIFIED:20241205T124135Z
UID:10000659-1737102600-1737113400@inpeace.org
SUMMARY:Keiki Steps Huakaʻi - Jan2025
DESCRIPTION:Join us for an hour\, virtually on Zoom\, to celebrate Lili’uokalani with a virtual food demonstration and music.Registration for this event will close on Tuesday\, January 6th at 2pm. Look out for a confirmation email regarding your registration for this event. Closer to the event\, an email with the link to join via ZOOM will be sent to the email used during the registration process.
URL:https://inpeace.org/event/keiki-steps-huaka%ca%bbi-jan2025/
CATEGORIES:Early Learning & School Readiness,Keiki Steps
ATTACH;FMTTYPE=image/png:https://inpeace.org/wp-content/uploads/2023/01/Huakaʻi-Banner-Website.png
ORGANIZER;CN="INPEACE":MAILTO:info@inpeace.org
END:VEVENT
BEGIN:VEVENT
DTSTART;TZID=Pacific/Honolulu:20250110T083000
DTEND;TZID=Pacific/Honolulu:20250110T100000
DTSTAMP:20260420T034949
CREATED:20241101T022016Z
LAST-MODIFIED:20241101T022016Z
UID:10000950-1736497800-1736503200@inpeace.org
SUMMARY:Keiki Steps Lā ʻOhana - Jan2025
DESCRIPTION:Join us for an hour\, virtually on Zoom\, to celebrate Lili’uokalani with a virtual food demonstration and music.Registration for this event will close on Tuesday\, January 6th at 2pm. Look out for a confirmation email regarding your registration for this event. Closer to the event\, an email with the link to join via ZOOM will be sent to the email used during the registration process.
URL:https://inpeace.org/event/keiki-steps-la-%ca%bbohana-jan2025/
CATEGORIES:Early Learning & School Readiness,Keiki Steps
ATTACH;FMTTYPE=image/png:https://inpeace.org/wp-content/uploads/2023/02/Keiki-Steps-La-ʻOhana.png
ORGANIZER;CN="INPEACE":MAILTO:info@inpeace.org
END:VEVENT
BEGIN:VEVENT
DTSTART;TZID=Pacific/Honolulu:20250108T170000
DTEND;TZID=Pacific/Honolulu:20250108T180000
DTSTAMP:20260420T034949
CREATED:20241205T124339Z
LAST-MODIFIED:20241205T124615Z
UID:10000958-1736355600-1736359200@inpeace.org
SUMMARY:Keiki Steps Mea ʻAi and Mele - Jan2025
DESCRIPTION:Join us for an hour\, virtually on Zoom\, to celebrate Lili’uokalani with a virtual food demonstration and music.Registration for this event will close on Tuesday\, January 6th at 2pm. Look out for a confirmation email regarding your registration for this event. Closer to the event\, an email with the link to join via ZOOM will be sent to the email used during the registration process.
URL:https://inpeace.org/event/keiki-steps-mea-%ca%bbai-and-mele-jan2025/
LOCATION:Virtual Event on Zoom
CATEGORIES:Early Learning & School Readiness,Keiki Steps
ATTACH;FMTTYPE=image/png:https://inpeace.org/wp-content/uploads/2022/10/WEB_Event-Banner.png
ORGANIZER;CN="INPEACE":MAILTO:info@inpeace.org
END:VEVENT
BEGIN:VEVENT
DTSTART;TZID=Pacific/Honolulu:20241212T170000
DTEND;TZID=Pacific/Honolulu:20241212T190000
DTSTAMP:20260420T034949
CREATED:20241121T232944Z
LAST-MODIFIED:20241122T021843Z
UID:10000955-1734022800-1734030000@inpeace.org
SUMMARY:Keiki Steps Pō ʻOhana - All Islands Dec2024
DESCRIPTION:Join us for an hour\, virtually on Zoom\, to celebrate Lili’uokalani with a virtual food demonstration and music.Registration for this event will close on Tuesday\, January 6th at 2pm. Look out for a confirmation email regarding your registration for this event. Closer to the event\, an email with the link to join via ZOOM will be sent to the email used during the registration process.
URL:https://inpeace.org/event/keiki-steps-po-%ca%bbohana-all-islands-dec2024/
CATEGORIES:Early Learning & School Readiness,Keiki Steps
ATTACH;FMTTYPE=image/png:https://inpeace.org/wp-content/uploads/2022/11/WEB_Event-Banner-Keiki-Steps-Po-ʻOhana.png
ORGANIZER;CN="INPEACE":MAILTO:info@inpeace.org
END:VEVENT
BEGIN:VEVENT
DTSTART;TZID=Pacific/Honolulu:20241127T170000
DTEND;TZID=Pacific/Honolulu:20241127T180000
DTSTAMP:20260420T034949
CREATED:20241116T011423Z
LAST-MODIFIED:20241116T011423Z
UID:10000952-1732726800-1732730400@inpeace.org
SUMMARY:Keiki Steps Mea ʻAi and Mele - Nov2024
DESCRIPTION:Join us for an hour\, virtually on Zoom\, to celebrate Lili’uokalani with a virtual food demonstration and music.Registration for this event will close on Tuesday\, January 6th at 2pm. Look out for a confirmation email regarding your registration for this event. Closer to the event\, an email with the link to join via ZOOM will be sent to the email used during the registration process.
URL:https://inpeace.org/event/keiki-steps-mea-%ca%bbai-and-mele-2024/
LOCATION:Virtual Event on Zoom
CATEGORIES:Early Learning & School Readiness,Keiki Steps
ATTACH;FMTTYPE=image/png:https://inpeace.org/wp-content/uploads/2022/10/WEB_Event-Banner.png
ORGANIZER;CN="INPEACE":MAILTO:info@inpeace.org
END:VEVENT
BEGIN:VEVENT
DTSTART;TZID=Pacific/Honolulu:20241122T083000
DTEND;TZID=Pacific/Honolulu:20241122T113000
DTSTAMP:20260420T034949
CREATED:20241101T022604Z
LAST-MODIFIED:20241101T022738Z
UID:10000951-1732264200-1732275000@inpeace.org
SUMMARY:Keiki Steps Huakaʻi - Nov2024
DESCRIPTION:Join us for an hour\, virtually on Zoom\, to celebrate Lili’uokalani with a virtual food demonstration and music.Registration for this event will close on Tuesday\, January 6th at 2pm. Look out for a confirmation email regarding your registration for this event. Closer to the event\, an email with the link to join via ZOOM will be sent to the email used during the registration process.
URL:https://inpeace.org/event/keiki-steps-huaka%ca%bbi-nov2024/
CATEGORIES:Early Learning & School Readiness,Keiki Steps
ATTACH;FMTTYPE=image/png:https://inpeace.org/wp-content/uploads/2023/01/Huakaʻi-Banner-Website.png
ORGANIZER;CN="INPEACE":MAILTO:info@inpeace.org
END:VEVENT
BEGIN:VEVENT
DTSTART;TZID=Pacific/Honolulu:20241108T083000
DTEND;TZID=Pacific/Honolulu:20241108T100000
DTSTAMP:20260420T034949
CREATED:20241016T221018Z
LAST-MODIFIED:20241016T221018Z
UID:10000945-1731054600-1731060000@inpeace.org
SUMMARY:Keiki Steps Lā ʻOhana - Nov2024
DESCRIPTION:Join us for an hour\, virtually on Zoom\, to celebrate Lili’uokalani with a virtual food demonstration and music.Registration for this event will close on Tuesday\, January 6th at 2pm. Look out for a confirmation email regarding your registration for this event. Closer to the event\, an email with the link to join via ZOOM will be sent to the email used during the registration process.
URL:https://inpeace.org/event/keiki-steps-la-%ca%bbohana-nov2024/
CATEGORIES:Early Learning & School Readiness,Keiki Steps
ATTACH;FMTTYPE=image/png:https://inpeace.org/wp-content/uploads/2023/02/Keiki-Steps-La-ʻOhana.png
ORGANIZER;CN="INPEACE":MAILTO:info@inpeace.org
END:VEVENT
BEGIN:VEVENT
DTSTART;TZID=Pacific/Honolulu:20241025T083000
DTEND;TZID=Pacific/Honolulu:20241025T113000
DTSTAMP:20260420T034949
CREATED:20241002T002708Z
LAST-MODIFIED:20241002T003139Z
UID:10000944-1729845000-1729855800@inpeace.org
SUMMARY:Keiki Steps Huakaʻi - Oct2024
DESCRIPTION:Join us for an hour\, virtually on Zoom\, to celebrate Lili’uokalani with a virtual food demonstration and music.Registration for this event will close on Tuesday\, January 6th at 2pm. Look out for a confirmation email regarding your registration for this event. Closer to the event\, an email with the link to join via ZOOM will be sent to the email used during the registration process.
URL:https://inpeace.org/event/keiki-steps-huaka%ca%bbi-oct2024/
CATEGORIES:Early Learning & School Readiness,Keiki Steps
ATTACH;FMTTYPE=image/png:https://inpeace.org/wp-content/uploads/2023/01/Huakaʻi-Banner-Website.png
ORGANIZER;CN="INPEACE":MAILTO:info@inpeace.org
END:VEVENT
BEGIN:VEVENT
DTSTART;TZID=Pacific/Honolulu:20241014T170000
DTEND;TZID=Pacific/Honolulu:20241014T190000
DTSTAMP:20260420T034949
CREATED:20240927T005842Z
LAST-MODIFIED:20240927T005842Z
UID:10000943-1728925200-1728932400@inpeace.org
SUMMARY:Keiki Steps Pō ʻOhana - All Islands Oct2024
DESCRIPTION:Join us for an hour\, virtually on Zoom\, to celebrate Lili’uokalani with a virtual food demonstration and music.Registration for this event will close on Tuesday\, January 6th at 2pm. Look out for a confirmation email regarding your registration for this event. Closer to the event\, an email with the link to join via ZOOM will be sent to the email used during the registration process.
URL:https://inpeace.org/event/keiki-steps-po-%ca%bbohana-all-islands-oct2024/
CATEGORIES:Early Learning & School Readiness,Keiki Steps
ATTACH;FMTTYPE=image/png:https://inpeace.org/wp-content/uploads/2022/11/WEB_Event-Banner-Keiki-Steps-Po-ʻOhana.png
ORGANIZER;CN="INPEACE":MAILTO:info@inpeace.org
END:VEVENT
BEGIN:VEVENT
DTSTART;TZID=Pacific/Honolulu:20240927T083000
DTEND;TZID=Pacific/Honolulu:20240927T113000
DTSTAMP:20260420T034949
CREATED:20240901T082757Z
LAST-MODIFIED:20240901T082757Z
UID:10000926-1727425800-1727436600@inpeace.org
SUMMARY:Keiki Steps Huakaʻi - Sep2024
DESCRIPTION:Join us for an hour\, virtually on Zoom\, to celebrate Lili’uokalani with a virtual food demonstration and music.Registration for this event will close on Tuesday\, January 6th at 2pm. Look out for a confirmation email regarding your registration for this event. Closer to the event\, an email with the link to join via ZOOM will be sent to the email used during the registration process.
URL:https://inpeace.org/event/keiki-steps-huaka%ca%bbi-sep2024/
CATEGORIES:Early Learning & School Readiness,Keiki Steps
ATTACH;FMTTYPE=image/png:https://inpeace.org/wp-content/uploads/2023/01/Huakaʻi-Banner-Website.png
ORGANIZER;CN="INPEACE":MAILTO:info@inpeace.org
END:VEVENT
BEGIN:VEVENT
DTSTART;TZID=Pacific/Honolulu:20240913T083000
DTEND;TZID=Pacific/Honolulu:20240913T100000
DTSTAMP:20260420T034950
CREATED:20240901T075953Z
LAST-MODIFIED:20240901T075953Z
UID:10000927-1726216200-1726221600@inpeace.org
SUMMARY:Keiki Steps Lā ʻOhana - Sep2024
DESCRIPTION:Join us for an hour\, virtually on Zoom\, to celebrate Lili’uokalani with a virtual food demonstration and music.Registration for this event will close on Tuesday\, January 6th at 2pm. Look out for a confirmation email regarding your registration for this event. Closer to the event\, an email with the link to join via ZOOM will be sent to the email used during the registration process.
URL:https://inpeace.org/event/keiki-steps-la-%ca%bbohana-sep2024/
CATEGORIES:Early Learning & School Readiness,Keiki Steps
ATTACH;FMTTYPE=image/png:https://inpeace.org/wp-content/uploads/2023/02/Keiki-Steps-La-ʻOhana.png
ORGANIZER;CN="INPEACE":MAILTO:info@inpeace.org
END:VEVENT
BEGIN:VEVENT
DTSTART;TZID=Pacific/Honolulu:20240823T083000
DTEND;TZID=Pacific/Honolulu:20240823T100000
DTSTAMP:20260420T034950
CREATED:20240821T044502Z
LAST-MODIFIED:20240821T044502Z
UID:10000931-1724401800-1724407200@inpeace.org
SUMMARY:Keiki Steps Lā ʻOhana - Aug2024
DESCRIPTION:Join us for an hour\, virtually on Zoom\, to celebrate Lili’uokalani with a virtual food demonstration and music.Registration for this event will close on Tuesday\, January 6th at 2pm. Look out for a confirmation email regarding your registration for this event. Closer to the event\, an email with the link to join via ZOOM will be sent to the email used during the registration process.
URL:https://inpeace.org/event/keiki-steps-la-%ca%bbohana-aug2024/
CATEGORIES:Early Learning & School Readiness,Keiki Steps
ATTACH;FMTTYPE=image/png:https://inpeace.org/wp-content/uploads/2023/02/Keiki-Steps-La-ʻOhana.png
ORGANIZER;CN="INPEACE":MAILTO:info@inpeace.org
END:VEVENT
BEGIN:VEVENT
DTSTART;TZID=Pacific/Honolulu:20240523T090000
DTEND;TZID=Pacific/Honolulu:20240523T113000
DTSTAMP:20260420T034950
CREATED:20240501T110003Z
LAST-MODIFIED:20240507T220708Z
UID:10000905-1716454800-1716463800@inpeace.org
SUMMARY:Keiki Steps Hōʻike - Oʻahu
DESCRIPTION:Join us for an hour\, virtually on Zoom\, to celebrate Lili’uokalani with a virtual food demonstration and music.Registration for this event will close on Tuesday\, January 6th at 2pm. Look out for a confirmation email regarding your registration for this event. Closer to the event\, an email with the link to join via ZOOM will be sent to the email used during the registration process.
URL:https://inpeace.org/event/keiki-steps-ho%ca%bbike-o%ca%bbahu-2/
CATEGORIES:Early Learning & School Readiness,Keiki Steps
ATTACH;FMTTYPE=image/png:https://inpeace.org/wp-content/uploads/2023/05/Keiki-Steps-Hoʻike.png
ORGANIZER;CN="INPEACE":MAILTO:info@inpeace.org
END:VEVENT
BEGIN:VEVENT
DTSTART;TZID=Pacific/Honolulu:20240522T090000
DTEND;TZID=Pacific/Honolulu:20240522T113000
DTSTAMP:20260420T034950
CREATED:20240502T074839Z
LAST-MODIFIED:20240510T185817Z
UID:10000806-1716368400-1716377400@inpeace.org
SUMMARY:Keiki Steps Hōʻike - Kauaʻi
DESCRIPTION:Join us for an hour\, virtually on Zoom\, to celebrate Lili’uokalani with a virtual food demonstration and music.Registration for this event will close on Tuesday\, January 6th at 2pm. Look out for a confirmation email regarding your registration for this event. Closer to the event\, an email with the link to join via ZOOM will be sent to the email used during the registration process.
URL:https://inpeace.org/event/keiki-steps-ho%ca%bbike-kaua%ca%bbi-2/
CATEGORIES:Early Learning & School Readiness,Keiki Steps
ATTACH;FMTTYPE=image/png:https://inpeace.org/wp-content/uploads/2023/05/Keiki-Steps-Hoʻike.png
ORGANIZER;CN="INPEACE":MAILTO:info@inpeace.org
END:VEVENT
BEGIN:VEVENT
DTSTART;TZID=Pacific/Honolulu:20240521T090000
DTEND;TZID=Pacific/Honolulu:20240521T113000
DTSTAMP:20260420T034950
CREATED:20240502T064217Z
LAST-MODIFIED:20240510T190121Z
UID:10000805-1716282000-1716291000@inpeace.org
SUMMARY:Keiki Steps Hōʻike - Hawaiʻi
DESCRIPTION:Join us for an hour\, virtually on Zoom\, to celebrate Lili’uokalani with a virtual food demonstration and music.Registration for this event will close on Tuesday\, January 6th at 2pm. Look out for a confirmation email regarding your registration for this event. Closer to the event\, an email with the link to join via ZOOM will be sent to the email used during the registration process.
URL:https://inpeace.org/event/keiki-steps-ho%ca%bbike-hawai%ca%bbi-2/
CATEGORIES:Early Learning & School Readiness,Keiki Steps
ATTACH;FMTTYPE=image/png:https://inpeace.org/wp-content/uploads/2023/05/Keiki-Steps-Hoʻike.png
ORGANIZER;CN="INPEACE":MAILTO:info@inpeace.org
END:VEVENT
BEGIN:VEVENT
DTSTART;TZID=Pacific/Honolulu:20240520T170000
DTEND;TZID=Pacific/Honolulu:20240520T190000
DTSTAMP:20260420T034950
CREATED:20240502T175743Z
LAST-MODIFIED:20240502T175817Z
UID:10000807-1716224400-1716231600@inpeace.org
SUMMARY:Keiki Steps Pō ʻOhana - All Islands May2024
DESCRIPTION:Join us for an hour\, virtually on Zoom\, to celebrate Lili’uokalani with a virtual food demonstration and music.Registration for this event will close on Tuesday\, January 6th at 2pm. Look out for a confirmation email regarding your registration for this event. Closer to the event\, an email with the link to join via ZOOM will be sent to the email used during the registration process.
URL:https://inpeace.org/event/keiki-steps-po-%ca%bbohana-all-islands-may2024/
CATEGORIES:Early Learning & School Readiness,Keiki Steps
ATTACH;FMTTYPE=image/png:https://inpeace.org/wp-content/uploads/2022/11/WEB_Event-Banner-Keiki-Steps-Po-ʻOhana.png
ORGANIZER;CN="INPEACE":MAILTO:info@inpeace.org
END:VEVENT
BEGIN:VEVENT
DTSTART;TZID=Pacific/Honolulu:20240426T083000
DTEND;TZID=Pacific/Honolulu:20240426T113000
DTSTAMP:20260420T034950
CREATED:20240402T050602Z
LAST-MODIFIED:20240402T051154Z
UID:10000899-1714120200-1714131000@inpeace.org
SUMMARY:Keiki Steps Huakaʻi - Oʻahu and Kauaʻi Apr2024
DESCRIPTION:Join us for an hour\, virtually on Zoom\, to celebrate Lili’uokalani with a virtual food demonstration and music.Registration for this event will close on Tuesday\, January 6th at 2pm. Look out for a confirmation email regarding your registration for this event. Closer to the event\, an email with the link to join via ZOOM will be sent to the email used during the registration process.
URL:https://inpeace.org/event/keiki-steps-huaka%ca%bbi-o%ca%bbahu-and-kaua%ca%bbi-apr2024/
CATEGORIES:Early Learning & School Readiness,Keiki Steps
ATTACH;FMTTYPE=image/png:https://inpeace.org/wp-content/uploads/2023/01/Huakaʻi-Banner-Website.png
ORGANIZER;CN="INPEACE":MAILTO:info@inpeace.org
END:VEVENT
BEGIN:VEVENT
DTSTART;TZID=Pacific/Honolulu:20240426T083000
DTEND;TZID=Pacific/Honolulu:20240426T100000
DTSTAMP:20260420T034950
CREATED:20240402T051928Z
LAST-MODIFIED:20240402T051928Z
UID:10000909-1714120200-1714125600@inpeace.org
SUMMARY:Keiki Steps Lā ʻOhana - Hawaiʻi Apr2024
DESCRIPTION:Join us for an hour\, virtually on Zoom\, to celebrate Lili’uokalani with a virtual food demonstration and music.Registration for this event will close on Tuesday\, January 6th at 2pm. Look out for a confirmation email regarding your registration for this event. Closer to the event\, an email with the link to join via ZOOM will be sent to the email used during the registration process.
URL:https://inpeace.org/event/keiki-steps-la-%ca%bbohana-hawai%ca%bbi-apr2024/
CATEGORIES:Early Learning & School Readiness,Keiki Steps
ATTACH;FMTTYPE=image/png:https://inpeace.org/wp-content/uploads/2023/02/Keiki-Steps-La-ʻOhana.png
ORGANIZER;CN="INPEACE":MAILTO:info@inpeace.org
END:VEVENT
BEGIN:VEVENT
DTSTART;TZID=Pacific/Honolulu:20240412T083000
DTEND;TZID=Pacific/Honolulu:20240412T113000
DTSTAMP:20260420T034950
CREATED:20240402T051632Z
LAST-MODIFIED:20240402T051632Z
UID:10000911-1712910600-1712921400@inpeace.org
SUMMARY:Keiki Steps Huakaʻi - Hawaiʻi Apr2024
DESCRIPTION:Join us for an hour\, virtually on Zoom\, to celebrate Lili’uokalani with a virtual food demonstration and music.Registration for this event will close on Tuesday\, January 6th at 2pm. Look out for a confirmation email regarding your registration for this event. Closer to the event\, an email with the link to join via ZOOM will be sent to the email used during the registration process.
URL:https://inpeace.org/event/keiki-steps-huaka%ca%bbi-hawai%ca%bbi-apr2024/
CATEGORIES:Early Learning & School Readiness,Keiki Steps
ATTACH;FMTTYPE=image/png:https://inpeace.org/wp-content/uploads/2023/01/Huakaʻi-Banner-Website.png
ORGANIZER;CN="INPEACE":MAILTO:info@inpeace.org
END:VEVENT
BEGIN:VEVENT
DTSTART;TZID=Pacific/Honolulu:20240412T083000
DTEND;TZID=Pacific/Honolulu:20240412T100000
DTSTAMP:20260420T034950
CREATED:20240402T051029Z
LAST-MODIFIED:20240402T051029Z
UID:10000913-1712910600-1712916000@inpeace.org
SUMMARY:Keiki Steps Lā ʻOhana - Kauaʻi and Oʻahu Apr2024
DESCRIPTION:Join us for an hour\, virtually on Zoom\, to celebrate Lili’uokalani with a virtual food demonstration and music.Registration for this event will close on Tuesday\, January 6th at 2pm. Look out for a confirmation email regarding your registration for this event. Closer to the event\, an email with the link to join via ZOOM will be sent to the email used during the registration process.
URL:https://inpeace.org/event/keiki-steps-la-%ca%bbohana-kaua%ca%bbi-and-o%ca%bbahu-apr2024/
CATEGORIES:Early Learning & School Readiness,Keiki Steps
ATTACH;FMTTYPE=image/png:https://inpeace.org/wp-content/uploads/2023/02/Keiki-Steps-La-ʻOhana.png
ORGANIZER;CN="INPEACE":MAILTO:info@inpeace.org
END:VEVENT
BEGIN:VEVENT
DTSTART;TZID=Pacific/Honolulu:20240328T170000
DTEND;TZID=Pacific/Honolulu:20240328T190000
DTSTAMP:20260420T034950
CREATED:20240307T004916Z
LAST-MODIFIED:20240307T004916Z
UID:10000921-1711645200-1711652400@inpeace.org
SUMMARY:Keiki Steps - Mākua Workshop Series Mar2024
DESCRIPTION:Join us for an hour\, virtually on Zoom\, to celebrate Lili’uokalani with a virtual food demonstration and music.Registration for this event will close on Tuesday\, January 6th at 2pm. Look out for a confirmation email regarding your registration for this event. Closer to the event\, an email with the link to join via ZOOM will be sent to the email used during the registration process.
URL:https://inpeace.org/event/keiki-steps-makua-workshop-series-mar2024-2/
CATEGORIES:Early Learning & School Readiness,Keiki Steps
ORGANIZER;CN="INPEACE":MAILTO:info@inpeace.org
END:VEVENT
END:VCALENDAR