BEGIN:VCALENDAR
VERSION:2.0
PRODID:-//INPEACE - ECPv6.15.13.1//NONSGML v1.0//EN
CALSCALE:GREGORIAN
METHOD:PUBLISH
X-ORIGINAL-URL:https://inpeace.org
X-WR-CALDESC:Events for INPEACE
REFRESH-INTERVAL;VALUE=DURATION:PT1H
X-Robots-Tag:noindex
X-PUBLISHED-TTL:PT1H
BEGIN:VTIMEZONE
TZID:Pacific/Honolulu
BEGIN:STANDARD
TZOFFSETFROM:-1000
TZOFFSETTO:-1000
TZNAME:HST
DTSTART:20220101T000000
END:STANDARD
END:VTIMEZONE
BEGIN:VEVENT
DTSTART;TZID=Pacific/Honolulu:20231101T100000
DTEND;TZID=Pacific/Honolulu:20231101T140000
DTSTAMP:20260423T012245
CREATED:20231011T011626Z
LAST-MODIFIED:20231011T011626Z
UID:10000875-1698832800-1698847200@inpeace.org
SUMMARY:Preschool Here I Come! - Māʻili
DESCRIPTION:Ho‘āla invites you to a free in-person event! Perfect for families with Keiki from 0-5 years seeking early childhood education and Subsidy for preschool.\n\nAn email reminder will be sent out with fair details.
URL:https://inpeace.org/event/preschool-here-i-come/
LOCATION:Community Learning Center at Māʻili\, 87-790 Kulauku Street\, Waianae\, HI\, 96792\, United States
CATEGORIES:Early Learning & School Readiness,Hoala
ATTACH;FMTTYPE=image/png:https://inpeace.org/wp-content/uploads/2023/10/Hoala-Workshop-1.png
ORGANIZER;CN="INPEACE":MAILTO:info@inpeace.org
END:VEVENT
BEGIN:VEVENT
DTSTART;TZID=Pacific/Honolulu:20231102T100000
DTEND;TZID=Pacific/Honolulu:20231102T130000
DTSTAMP:20260423T012245
CREATED:20231011T013211Z
LAST-MODIFIED:20231011T013211Z
UID:10000848-1698919200-1698930000@inpeace.org
SUMMARY:Preschool Here I Come! - Kapolei
DESCRIPTION:Ho‘āla invites you to a free in-person event! Perfect for families with Keiki from 0-5 years seeking early childhood education and Subsidy for preschool.\n\nAn email reminder will be sent out with fair details.
URL:https://inpeace.org/event/preschool-here-i-come-kapolei/
LOCATION:Ka Makana Ali’i Center Court\, 91-5431 Kapolei Parkway\, Kapolei\, HI\, 96707\, United States
CATEGORIES:Early Learning & School Readiness,Hoala
ATTACH;FMTTYPE=image/png:https://inpeace.org/wp-content/uploads/2023/10/Hoala-Workshop-1.png
ORGANIZER;CN="INPEACE":MAILTO:info@inpeace.org
END:VEVENT
BEGIN:VEVENT
DTSTART;TZID=Pacific/Honolulu:20231108T110000
DTEND;TZID=Pacific/Honolulu:20231108T130000
DTSTAMP:20260423T012245
CREATED:20231011T012843Z
LAST-MODIFIED:20231011T012843Z
UID:10000849-1699441200-1699448400@inpeace.org
SUMMARY:Preschool Here I Come! - Kauaʻi (Morning Session)
DESCRIPTION:Ho‘āla invites you to a free in-person event! Perfect for families with Keiki from 0-5 years seeking early childhood education and Subsidy for preschool.\n\nAn email reminder will be sent out with fair details.
URL:https://inpeace.org/event/preschool-here-i-come-kaua%ca%bbi-morning-session/
LOCATION:Kamehameha School Kauaʻi Resource Center\, 3201Akahi Street\, Līhuʻe\, HI\, 96792\, United States
CATEGORIES:Early Learning & School Readiness,Hoala
ATTACH;FMTTYPE=image/png:https://inpeace.org/wp-content/uploads/2023/10/Hoala-Workshop-1.png
ORGANIZER;CN="INPEACE":MAILTO:info@inpeace.org
END:VEVENT
BEGIN:VEVENT
DTSTART;TZID=Pacific/Honolulu:20231108T170000
DTEND;TZID=Pacific/Honolulu:20231108T190000
DTSTAMP:20260423T012245
CREATED:20231011T012327Z
LAST-MODIFIED:20231011T013040Z
UID:10000850-1699462800-1699470000@inpeace.org
SUMMARY:Preschool Here I Come! - Kauaʻi (EveningSession)
DESCRIPTION:Ho‘āla invites you to a free in-person event! Perfect for families with Keiki from 0-5 years seeking early childhood education and Subsidy for preschool.\n\nAn email reminder will be sent out with fair details.
URL:https://inpeace.org/event/preschool-here-i-come-kaua%ca%bbi-eveningsession/
LOCATION:Kamehameha School Kauaʻi Resource Center\, 3201Akahi Street\, Līhuʻe\, HI\, 96792\, United States
CATEGORIES:Early Learning & School Readiness,Hoala
ATTACH;FMTTYPE=image/png:https://inpeace.org/wp-content/uploads/2023/10/Hoala-Workshop-1.png
ORGANIZER;CN="INPEACE":MAILTO:info@inpeace.org
END:VEVENT
BEGIN:VEVENT
DTSTART;TZID=Pacific/Honolulu:20231117T083000
DTEND;TZID=Pacific/Honolulu:20231117T100000
DTSTAMP:20260423T012245
CREATED:20231102T180053Z
LAST-MODIFIED:20231102T180053Z
UID:10000840-1700209800-1700215200@inpeace.org
SUMMARY:Keiki Steps Lā ʻOhana - All Islands Nov2023
DESCRIPTION:Hūi! Join us in this extension of our morning services to ʻohana.\nOur Lā ʻOhana events are an extension of our regular morning services to families with keiki ages newborn to 5 years of age (prior to kindergarten). \nRegistration for this event is closed to enrolled participants only. If you are interested in registering with our program\, please contact us at (808) 693-7222. \nIsland specific event details are available via our class platform and/or from our staff in your virtual/ in-person classes. \nUpon arrival to our in-person event\, there may be an additional consent form that will be required for all persons in attendance. \nHurry and register soon! Registration for this month’s event closes on Friday\, Nov. 3rd at 12pm.  Mahalo!
URL:https://inpeace.org/event/keiki-steps-la-%ca%bbohana-all-islands-nov2023/
CATEGORIES:Early Learning & School Readiness,Keiki Steps
ATTACH;FMTTYPE=image/png:https://inpeace.org/wp-content/uploads/2023/02/Keiki-Steps-La-ʻOhana.png
ORGANIZER;CN="INPEACE":MAILTO:info@inpeace.org
END:VEVENT
BEGIN:VEVENT
DTSTART;TZID=Pacific/Honolulu:20231122T170000
DTEND;TZID=Pacific/Honolulu:20231122T180000
DTSTAMP:20260423T012245
CREATED:20231023T175313Z
LAST-MODIFIED:20231023T175313Z
UID:10000846-1700672400-1700676000@inpeace.org
SUMMARY:Keiki Steps Mea ʻAi and Mele - Nov2023
DESCRIPTION:Join us as we celebrate Lā Kūʻokoʻa with a virtual food demonstration and music.\nRegistration for this event will close on Wednesday\, November 15th.
URL:https://inpeace.org/event/keiki-steps-mea-%ca%bbai-and-mele-nov2023/
LOCATION:Virtual Event on Zoom
CATEGORIES:Early Learning & School Readiness,Keiki Steps
ATTACH;FMTTYPE=image/png:https://inpeace.org/wp-content/uploads/2022/10/WEB_Event-Banner.png
ORGANIZER;CN="INPEACE":MAILTO:info@inpeace.org
END:VEVENT
END:VCALENDAR